BEGIN:VCALENDAR
VERSION:2.0
PRODID:-//Octubre Centre de Cultura Contemporània - ECPv5.1.6//NONSGML v1.0//EN
CALSCALE:GREGORIAN
METHOD:PUBLISH
X-WR-CALNAME:Octubre Centre de Cultura Contemporània
X-ORIGINAL-URL:https://octubre.cat
X-WR-CALDESC:Events for Octubre Centre de Cultura Contemporània
BEGIN:VTIMEZONE
TZID:Europe/Andorra
BEGIN:DAYLIGHT
TZOFFSETFROM:+0100
TZOFFSETTO:+0200
TZNAME:CEST
DTSTART:20120325T010000
END:DAYLIGHT
BEGIN:STANDARD
TZOFFSETFROM:+0200
TZOFFSETTO:+0100
TZNAME:CET
DTSTART:20121028T010000
END:STANDARD
END:VTIMEZONE
BEGIN:VEVENT
DTSTART;TZID=Europe/Andorra:20120330T190000
DTEND;TZID=Europe/Andorra:20120330T190000
DTSTAMP:20260421T035140
CREATED:20200729T165725Z
LAST-MODIFIED:20200730T042950Z
UID:9348-1333134000-1333134000@octubre.cat
SUMMARY:Lectura gastrofònica
DESCRIPTION:Divendres 30 de març a les 19h: un espectacle que combina la lectura\, la música i la cuina en directe a la cafeteria de l’Octubre CCC. Amb la participació de Carlos García\, Jakob Gramss\, Deco Nascimento i  David Pallás  \n  \n  \n\nMúsica\, cuina i literatura…  Inspirat en la novel·la gastrònomica Los insaciables\, de Jakob Gramss\, aquest espectacle combina la música “cuinada” en directe –i basada en els sorolls generats durant l’elaboració d’un menú experimental– amb la lectura d’extractes de la novel·la. Una recepta per a degustar amb tots el sentits…  Participen: Carlos García\, Jakob Gramss\, DeCo Nascimento i  David Pallás  A la cafeteria de l’Octubre CCC Entrada lliure
URL:https://octubre.cat/activitat/lectura-gastrofonica/
LOCATION:No definit
CATEGORIES:Literatura
ATTACH;FMTTYPE=image/jpeg:https://octubre.cat/www/wp-content/uploads/2020/07/activitat1591.jpg
END:VEVENT
END:VCALENDAR