BEGIN:VCALENDAR
VERSION:2.0
PRODID:-//Octubre Centre de Cultura Contemporània - ECPv5.1.6//NONSGML v1.0//EN
CALSCALE:GREGORIAN
METHOD:PUBLISH
X-WR-CALNAME:Octubre Centre de Cultura Contemporània
X-ORIGINAL-URL:https://octubre.cat
X-WR-CALDESC:Events for Octubre Centre de Cultura Contemporània
BEGIN:VTIMEZONE
TZID:Europe/Andorra
BEGIN:DAYLIGHT
TZOFFSETFROM:+0100
TZOFFSETTO:+0200
TZNAME:CEST
DTSTART:20090329T010000
END:DAYLIGHT
BEGIN:STANDARD
TZOFFSETFROM:+0200
TZOFFSETTO:+0100
TZNAME:CET
DTSTART:20091025T010000
END:STANDARD
END:VTIMEZONE
BEGIN:VEVENT
DTSTART;TZID=Europe/Andorra:20091121T193000
DTEND;TZID=Europe/Andorra:20091121T193000
DTSTAMP:20260420T202215
CREATED:20200729T182614Z
LAST-MODIFIED:20200729T182614Z
UID:12922-1258831800-1258831800@octubre.cat
SUMMARY:Lectura dramatitzada de 'Vacants' de Lluïsa Cunillé
DESCRIPTION:Dissabte 21 de novembre\, a les 19.30h: Lectura dramatitzada de “Vacants”\, de Lluïsa Cunillé. Amb Pepa Juan i Vicent Iborra.   \n  \n  \n\nPaco Zarzoso i Lola López en Vacants (Sala Palmireno\, València\, 1997).   Vacants és una obra de deu personatges\, interpretada per dos actors\, que sols o acompanyats proven d’omplir vitalment el temps i l’espai per on transiten.  Direcció: Martí Crespo. Interpretació: Pepa Juan i Albert Iborra.
URL:https://octubre.cat/activitat/lectura-dramatitzada-de-vacants-de-lluisa-cunille/
LOCATION:No definit
CATEGORIES:Teatre
ATTACH;FMTTYPE=image/jpeg:https://octubre.cat/www/wp-content/uploads/2020/07/activitat955.jpg
END:VEVENT
END:VCALENDAR