BEGIN:VCALENDAR
VERSION:2.0
PRODID:-//Octubre Centre de Cultura Contemporània - ECPv5.1.6//NONSGML v1.0//EN
CALSCALE:GREGORIAN
METHOD:PUBLISH
X-WR-CALNAME:Octubre Centre de Cultura Contemporània
X-ORIGINAL-URL:https://octubre.cat
X-WR-CALDESC:Events for Octubre Centre de Cultura Contemporània
BEGIN:VTIMEZONE
TZID:Europe/Andorra
BEGIN:DAYLIGHT
TZOFFSETFROM:+0100
TZOFFSETTO:+0200
TZNAME:CEST
DTSTART:20170326T010000
END:DAYLIGHT
BEGIN:STANDARD
TZOFFSETFROM:+0200
TZOFFSETTO:+0100
TZNAME:CET
DTSTART:20171029T010000
END:STANDARD
END:VTIMEZONE
BEGIN:VEVENT
DTSTART;TZID=Europe/Andorra:20170323T190000
DTEND;TZID=Europe/Andorra:20170323T190000
DTSTAMP:20260420T132738
CREATED:20200729T172446Z
LAST-MODIFIED:20200729T185755Z
UID:11059-1490295600-1490295600@octubre.cat
SUMMARY:Lectura del poemari 'Romandràs'\, de Josep Micó Conejero
DESCRIPTION:Dijous 23 de març a les 19.00h. Amb Vicent Camps\, Abel Dávila\, Joan Femenia i Anna Pérez. Entrada lliure.  \n  \n  \n\n (Ianua Editora)  Amb Vicent Camps\, Abel Dávila\, Joan Femenia i Anna Pérez.  Un magnífic poemari\, Romandràs\, d’en Josep Micó\, un dels millors poetes valencians contemporanis. Es tracta d’una col·lecció de poemes extraordinàries on en Josep homenatja la seva família. És un text que no deixa ningú indiferent. És un viatge vital\, una retrobada amb si mateix.
URL:https://octubre.cat/activitat/lectura-del-poemari-romandras-de-josep-mico-conejero/
LOCATION:Llibreria Fan Set
CATEGORIES:Literatura
ATTACH;FMTTYPE=image/jpeg:https://octubre.cat/www/wp-content/uploads/2020/07/activitat2789.jpg
END:VEVENT
END:VCALENDAR