BEGIN:VCALENDAR
VERSION:2.0
PRODID:-//Octubre Centre de Cultura Contemporània - ECPv5.1.6//NONSGML v1.0//EN
CALSCALE:GREGORIAN
METHOD:PUBLISH
X-WR-CALNAME:Octubre Centre de Cultura Contemporània
X-ORIGINAL-URL:https://octubre.cat
X-WR-CALDESC:Events for Octubre Centre de Cultura Contemporània
BEGIN:VTIMEZONE
TZID:Europe/Andorra
BEGIN:DAYLIGHT
TZOFFSETFROM:+0100
TZOFFSETTO:+0200
TZNAME:CEST
DTSTART:20120325T010000
END:DAYLIGHT
BEGIN:STANDARD
TZOFFSETFROM:+0200
TZOFFSETTO:+0100
TZNAME:CET
DTSTART:20121028T010000
END:STANDARD
END:VTIMEZONE
BEGIN:VEVENT
DTSTART;TZID=Europe/Andorra:20121016T190000
DTEND;TZID=Europe/Andorra:20121018T000000
DTSTAMP:20260421T195211
CREATED:20200729T165827Z
LAST-MODIFIED:20200729T183924Z
UID:9412-1350414000-1350518400@octubre.cat
SUMMARY:'Le père de mes enfants'
DESCRIPTION:16\, 17 i 18 d’octubre a les 19.00h. projecció del film ‘Le père de mes enfants’\, dirigit per Mia Hansen-Løve (VOSC)  \n  \n  \n\nLe père de mes enfants (VOSC)\, dirigida per Mia Hansen-Løve Dimarts\, dimecres i dijous\, 16\, 17 i 18 d’octubre\, a les 19 hores.  Organitzat per Acció Cultural del País Valencià amb la col·laboració del Servei de Política Lingüística de la Universitat de València (SPLUV)  Preu entrada –3 € –2 € socis d’ACPV –L’entrada serà gratuïta amb el carnet de la Universitat de València (més un acompanyant) i de la Universitat Politècnica de València (més un acompanyant).  Podeu passar a recollir les entrades a partir d’una hora abans de la projecció.
URL:https://octubre.cat/activitat/le-pere-de-mes-enfants/
LOCATION:No definit
CATEGORIES:Cinema
ATTACH;FMTTYPE=image/jpeg:https://octubre.cat/www/wp-content/uploads/2020/07/activitat1659.jpg
END:VEVENT
END:VCALENDAR