BEGIN:VCALENDAR
VERSION:2.0
PRODID:-//Octubre Centre de Cultura Contemporània - ECPv5.1.6//NONSGML v1.0//EN
CALSCALE:GREGORIAN
METHOD:PUBLISH
X-WR-CALNAME:Octubre Centre de Cultura Contemporània
X-ORIGINAL-URL:https://octubre.cat
X-WR-CALDESC:Events for Octubre Centre de Cultura Contemporània
BEGIN:VTIMEZONE
TZID:Europe/Andorra
BEGIN:DAYLIGHT
TZOFFSETFROM:+0100
TZOFFSETTO:+0200
TZNAME:CEST
DTSTART:20100328T010000
END:DAYLIGHT
BEGIN:STANDARD
TZOFFSETFROM:+0200
TZOFFSETTO:+0100
TZNAME:CET
DTSTART:20101031T010000
END:STANDARD
END:VTIMEZONE
BEGIN:VEVENT
DTSTART;TZID=Europe/Andorra:20101112T223000
DTEND;TZID=Europe/Andorra:20101112T223000
DTSTAMP:20260421T145835
CREATED:20200729T165143Z
LAST-MODIFIED:20200730T042611Z
UID:8994-1289601000-1289601000@octubre.cat
SUMMARY:Lawrence English
DESCRIPTION:Divendres 12 de novembre\, a les 22.30h: Lawrence English (Austràlia).   \n  \n  \n\nMedia artist\, compositor\, productor i crític\, aquest australià treballa\, mitjançant la investigació estètica\, sobre la percecpió i la memòria. Lawrence English usa una varietat d’accessos (concerts\, instal·lacions i la trobada entre so i visió) per a crear projectes que generen la transformació subtil de l’espai i permeten el públic adonar-se’n del que existeix en els límits de la percepció.   Durant més d’una dècada\, les seues investigacions sonores han buscat la convergència entre fonts musicals i sons ambientals. El seu treball ofereix l’oient la possibilitat de construir les seues pròpies narratives i impressions basades en les seues històries personals i experiències.  Per al present any\, el seu segell Room40 ha organitzat una gira d’esdeveniments especials a Austràlia\, Europa\, Japó i els Estats Units per a celebrar el seu desè aniversari. El concert a l’Octubre n’és un d’ells.
URL:https://octubre.cat/activitat/lawrence-english/
LOCATION:No definit
CATEGORIES:Vibra
ATTACH;FMTTYPE=image/jpeg:https://octubre.cat/www/wp-content/uploads/2020/07/activitat1286.jpg
END:VEVENT
END:VCALENDAR