BEGIN:VCALENDAR
VERSION:2.0
PRODID:-//Octubre Centre de Cultura Contemporània - ECPv5.1.6//NONSGML v1.0//EN
CALSCALE:GREGORIAN
METHOD:PUBLISH
X-WR-CALNAME:Octubre Centre de Cultura Contemporània
X-ORIGINAL-URL:https://octubre.cat
X-WR-CALDESC:Events for Octubre Centre de Cultura Contemporània
BEGIN:VTIMEZONE
TZID:Europe/Andorra
BEGIN:DAYLIGHT
TZOFFSETFROM:+0100
TZOFFSETTO:+0200
TZNAME:CEST
DTSTART:20080330T010000
END:DAYLIGHT
BEGIN:STANDARD
TZOFFSETFROM:+0200
TZOFFSETTO:+0100
TZNAME:CET
DTSTART:20081026T010000
END:STANDARD
END:VTIMEZONE
BEGIN:VEVENT
DTSTART;TZID=Europe/Andorra:20080626T190000
DTEND;TZID=Europe/Andorra:20080626T190000
DTSTAMP:20260420T205915
CREATED:20200729T181917Z
LAST-MODIFIED:20200730T035753Z
UID:12596-1214506800-1214506800@octubre.cat
SUMMARY:Laura Gibson (USA)
DESCRIPTION:Dijous 26 de juny\, 19.00h Laura Gibson (USA) Atenció: aquest concert s’ha avançat a les 19.00h  \n  \n  \n\nAtenció: aquest concert s’ha avançat a les 19.00h  Segona presència provinent també de Portland\, Laura Gibson és una de les reines de l’indie-folk nordamericà. Filla d’una petita localitat muntanyenca\, la seua prodigiosa veu l’ha portat als millors escenaris del món.  (Amb la col·laboració de Tranquilo Música)
URL:https://octubre.cat/activitat/laura-gibson-usa/
LOCATION:No definit
CATEGORIES:Cicle de música pop
ATTACH;FMTTYPE=image/jpeg:https://octubre.cat/www/wp-content/uploads/2020/07/activitat614.jpg
END:VEVENT
END:VCALENDAR