BEGIN:VCALENDAR
VERSION:2.0
PRODID:-//Octubre Centre de Cultura Contemporània - ECPv5.1.6//NONSGML v1.0//EN
CALSCALE:GREGORIAN
METHOD:PUBLISH
X-WR-CALNAME:Octubre Centre de Cultura Contemporània
X-ORIGINAL-URL:https://octubre.cat
X-WR-CALDESC:Events for Octubre Centre de Cultura Contemporània
BEGIN:VTIMEZONE
TZID:Europe/Andorra
BEGIN:DAYLIGHT
TZOFFSETFROM:+0100
TZOFFSETTO:+0200
TZNAME:CEST
DTSTART:20080330T010000
END:DAYLIGHT
BEGIN:STANDARD
TZOFFSETFROM:+0200
TZOFFSETTO:+0100
TZNAME:CET
DTSTART:20081026T010000
END:STANDARD
END:VTIMEZONE
BEGIN:VEVENT
DTSTART;TZID=Europe/Andorra:20080404T200000
DTEND;TZID=Europe/Andorra:20080404T200000
DTSTAMP:20260421T050303
CREATED:20200729T181824Z
LAST-MODIFIED:20200730T035710Z
UID:12542-1207339200-1207339200@octubre.cat
SUMMARY:Lau Vj + Andy Laguna (Alacant)
DESCRIPTION:Divendres 4\, 20.00h.  \n  \n  \n\nDesprés d’una llarga trajectòria artística\, Lau Vj ha passat a interessar-se per la producció de música electrònica. S’ha afincat a Eivissa amb l’objetivo de crear els seus propis imatges i sons en viu\,investigant nous suports per a realitzar performances audiovisuals en nom del seu col·lectiu Visualgroove. Per la seua banda\, les sessions de sons profunds i bases contundents d’Andy Laguna fan parlar molt. Ara també està  involucrat en la producció de música electrònica per a poder oferir al seu públic uns bons directes amb la seua pròpia música. Tant individualment com acompanyat del seu col·lectiu Visualgroove.
URL:https://octubre.cat/activitat/lau-vj-andy-laguna-alacant/
LOCATION:No definit
CATEGORIES:Cicle S0N1V1S10
ATTACH;FMTTYPE=image/jpeg:https://octubre.cat/www/wp-content/uploads/2020/07/artvisual1.jpg
END:VEVENT
END:VCALENDAR