BEGIN:VCALENDAR
VERSION:2.0
PRODID:-//Octubre Centre de Cultura Contemporània - ECPv5.1.6//NONSGML v1.0//EN
CALSCALE:GREGORIAN
METHOD:PUBLISH
X-WR-CALNAME:Octubre Centre de Cultura Contemporània
X-ORIGINAL-URL:https://octubre.cat
X-WR-CALDESC:Events for Octubre Centre de Cultura Contemporània
BEGIN:VTIMEZONE
TZID:Europe/Andorra
BEGIN:DAYLIGHT
TZOFFSETFROM:+0100
TZOFFSETTO:+0200
TZNAME:CEST
DTSTART:20090329T010000
END:DAYLIGHT
BEGIN:STANDARD
TZOFFSETFROM:+0200
TZOFFSETTO:+0100
TZNAME:CET
DTSTART:20091025T010000
END:STANDARD
END:VTIMEZONE
BEGIN:VEVENT
DTSTART;TZID=Europe/Andorra:20090920T190000
DTEND;TZID=Europe/Andorra:20090920T190000
DTSTAMP:20260421T012516
CREATED:20200729T182542Z
LAST-MODIFIED:20200729T182542Z
UID:12893-1253473200-1253473200@octubre.cat
SUMMARY:Latino Blanco Quartet
DESCRIPTION:Diumenge 20 de setembre\, a les 19.00h: Actuació de Latino Blanco Quartet (València).   \n  \n  \n\n“Cool Jazz Session”  Aquesta formació\, liderada pel saxofonista Francisco Ángel Blanco “Latino”\, ret homenatge als músics més importants i exponents per excel·lència de l’estil Cool Jazz (1948-1955). Experimentats músics que oferiran una selecció de les composicions més brillants d’aquesta etapa de la història del jazz\, temes de Gerry Mulligan\, Chet Baker\, Paul Desmond\, Art Farmer\, etc.   El quartet\, que presenta una peculiaritat\, l’absència de piano\, està caracteritzat pel so del grup de jazz de cambra. La seua actuació permetrà que el públic es retrobe amb melodies com Line For Lyons\, Festive Minor\, Walkin’ Shoes\, Bernie’s Tune\, Carioca\, etc.  Formació:   Latino Blanco: saxo baríton Toni Belenguer: trombó Matt Baker: contrabaix Jeff Jerolamon: bateria
URL:https://octubre.cat/activitat/latino-blanco-quartet/
LOCATION:No definit
CATEGORIES:Diumenges de Jazz!
END:VEVENT
END:VCALENDAR