BEGIN:VCALENDAR
VERSION:2.0
PRODID:-//Octubre Centre de Cultura Contemporània - ECPv5.1.6//NONSGML v1.0//EN
CALSCALE:GREGORIAN
METHOD:PUBLISH
X-WR-CALNAME:Octubre Centre de Cultura Contemporània
X-ORIGINAL-URL:https://octubre.cat
X-WR-CALDESC:Events for Octubre Centre de Cultura Contemporània
BEGIN:VTIMEZONE
TZID:Europe/Andorra
BEGIN:DAYLIGHT
TZOFFSETFROM:+0100
TZOFFSETTO:+0200
TZNAME:CEST
DTSTART:20070325T010000
END:DAYLIGHT
BEGIN:STANDARD
TZOFFSETFROM:+0200
TZOFFSETTO:+0100
TZNAME:CET
DTSTART:20071028T010000
END:STANDARD
END:VTIMEZONE
BEGIN:VEVENT
DTSTART;TZID=Europe/Andorra:20071227T193000
DTEND;TZID=Europe/Andorra:20071227T193000
DTSTAMP:20260420T203840
CREATED:20200729T181644Z
LAST-MODIFIED:20200730T035557Z
UID:12449-1198783800-1198783800@octubre.cat
SUMMARY:Las alas de la vida
DESCRIPTION:Dijous 27\, 19.30h. Premi millor documental en el passat Festival de Valladolid (SEMINCI)\, premi especial dels Tirant i molts altres reconeixements. Carlos Cristos\, un amic metge de Toni Canet contrau una malaltia neurodegenerativa mortal i decideix gravar tot el procés. Carlos pot aportar una experiència mèdica i vital que no tenien els pacients que ell com a metge ha hagut d’acompanyar en l’últim trànsit  \n  \n  \n\nProjecció de Las alas de la vida\, d’Antoni Canet.  Premi millor documental en el passat Festival de Valladolid (SEMINCI)\, premi especial dels Tirant i molts altres reconeixements. Carlos Cristos\, un amic metge de Toni Canet contrau una malaltia neurodegenerativa mortal i decideix gravar tot el procés. Carlos pot aportar una experiència mèdica i vital que no tenien els pacients que ell com a metge ha hagut d’acompanyar en l’últim trànsit. Lluny de ser una pel.lícula lamentosa Las alas de la vida és un cant a la dignitat i una crítica al tracte actual de les malalties i la mort.  Entrada lliure
URL:https://octubre.cat/activitat/las-alas-de-la-vida/
LOCATION:No definit
CATEGORIES:Cicle de Documentals
ATTACH;FMTTYPE=image/jpeg:https://octubre.cat/www/wp-content/uploads/2020/07/cinema1.jpg
END:VEVENT
END:VCALENDAR