BEGIN:VCALENDAR
VERSION:2.0
PRODID:-//Octubre Centre de Cultura Contemporània - ECPv5.1.6//NONSGML v1.0//EN
CALSCALE:GREGORIAN
METHOD:PUBLISH
X-WR-CALNAME:Octubre Centre de Cultura Contemporània
X-ORIGINAL-URL:https://octubre.cat
X-WR-CALDESC:Events for Octubre Centre de Cultura Contemporània
BEGIN:VTIMEZONE
TZID:Europe/Andorra
BEGIN:DAYLIGHT
TZOFFSETFROM:+0100
TZOFFSETTO:+0200
TZNAME:CEST
DTSTART:20080330T010000
END:DAYLIGHT
BEGIN:STANDARD
TZOFFSETFROM:+0200
TZOFFSETTO:+0100
TZNAME:CET
DTSTART:20081026T010000
END:STANDARD
END:VTIMEZONE
BEGIN:VEVENT
DTSTART;TZID=Europe/Andorra:20080221T190000
DTEND;TZID=Europe/Andorra:20080221T190000
DTSTAMP:20260423T014055
CREATED:20200729T181754Z
LAST-MODIFIED:20200730T035647Z
UID:12514-1203620400-1203620400@octubre.cat
SUMMARY:L'art de repetir per a no repetir
DESCRIPTION:La fundació AISGE presenta L’art de repetir per a no repetir. Biblioteca de formació actoral de Jorge Eines.  Hi intervenen:  Jorge Eines\, catedràtic en interpretació  Sergi Mateu\, vicepresident de la Fundació AISGE  Rosanna pastor\, actriu  Andrés Poveda\, director de l’Escola de l’Actor  Leopoldo García Aranda\, director de l’Escola Superior d’Art   Olga Peris\, directora del Laboratori Escènic de València  Pablo Corral Gómez\, director de l’Estudi Dramàtic de València   Se servirà un vi d’honor
URL:https://octubre.cat/activitat/lart-de-repetir-per-a-no-repetir/
LOCATION:No definit
CATEGORIES:Literatura
ATTACH;FMTTYPE=image/jpeg:https://octubre.cat/www/wp-content/uploads/2020/07/presentacions1.jpg
END:VEVENT
END:VCALENDAR