BEGIN:VCALENDAR
VERSION:2.0
PRODID:-//Octubre Centre de Cultura Contemporània - ECPv5.1.6//NONSGML v1.0//EN
CALSCALE:GREGORIAN
METHOD:PUBLISH
X-WR-CALNAME:Octubre Centre de Cultura Contemporània
X-ORIGINAL-URL:https://octubre.cat
X-WR-CALDESC:Events for Octubre Centre de Cultura Contemporània
BEGIN:VTIMEZONE
TZID:Europe/Andorra
BEGIN:DAYLIGHT
TZOFFSETFROM:+0100
TZOFFSETTO:+0200
TZNAME:CEST
DTSTART:20180325T010000
END:DAYLIGHT
BEGIN:STANDARD
TZOFFSETFROM:+0200
TZOFFSETTO:+0100
TZNAME:CET
DTSTART:20181028T010000
END:STANDARD
END:VTIMEZONE
BEGIN:VEVENT
DTSTART;TZID=Europe/Andorra:20181015T190000
DTEND;TZID=Europe/Andorra:20181015T190000
DTSTAMP:20260420T132852
CREATED:20200729T173131Z
LAST-MODIFIED:20200729T190943Z
UID:11273-1539630000-1539630000@octubre.cat
SUMMARY:L'art com a vehicle per a la pau: El Mediterrani creatiu per damunt de fronteres i conflictes
DESCRIPTION:Dilluns 15 d’octubre a les 19.00h. Taula rodona amb Chené Gómez\, Mireia Estrada\, Rosi Cózar i Maite Ibáñez. Mostra Viva del Mediterrani.	 \n  \n  \n\n 	 Taula redona amb: —Chené Gómez: ONG Creart  —Mireia Estrada: Associació Jiwar —Rosi Cózar: Pallassos Sense Fronteres Modera: Maite Ibáñez\, Mostra viva  Des de Mostra Viva volem subratllar l’espai de l’art com a eina per superar barreres. Per aquesta raó valorem els testimoniatges d’artistes i professionals que treballen des de l’art per superar les fronteres i els conflictes bèl·lics. Bé des del context social o polític que sofreixen les dones als països del Mediterrani\, i també des de zones en guerra on l’art ajuda a superar traumes i enfortir l’esperança.  Taula rodona organitzada per Mostra Viva del Mediterrani amb motiu de les exposicions actuals de l’Octubre CCC.
URL:https://octubre.cat/activitat/lart-com-a-vehicle-per-a-la-pau-el-mediterrani-creatiu-per-damunt-de-fronteres-i-conflictes/
LOCATION:Terrat
CATEGORIES:Conferències i congressos
ATTACH;FMTTYPE=image/jpeg:https://octubre.cat/www/wp-content/uploads/2020/07/activitat3131.jpg
END:VEVENT
END:VCALENDAR