BEGIN:VCALENDAR
VERSION:2.0
PRODID:-//Octubre Centre de Cultura Contemporània - ECPv5.1.6//NONSGML v1.0//EN
CALSCALE:GREGORIAN
METHOD:PUBLISH
X-WR-CALNAME:Octubre Centre de Cultura Contemporània
X-ORIGINAL-URL:https://octubre.cat
X-WR-CALDESC:Events for Octubre Centre de Cultura Contemporània
BEGIN:VTIMEZONE
TZID:Europe/Andorra
BEGIN:DAYLIGHT
TZOFFSETFROM:+0100
TZOFFSETTO:+0200
TZNAME:CEST
DTSTART:20160327T010000
END:DAYLIGHT
BEGIN:STANDARD
TZOFFSETFROM:+0200
TZOFFSETTO:+0100
TZNAME:CET
DTSTART:20161030T010000
END:STANDARD
END:VTIMEZONE
BEGIN:VEVENT
DTSTART;TZID=Europe/Andorra:20160629T190000
DTEND;TZID=Europe/Andorra:20160629T190000
DTSTAMP:20260421T135256
CREATED:20200729T171905Z
LAST-MODIFIED:20200729T185525Z
UID:10694-1467226800-1467226800@octubre.cat
SUMMARY:'L’Any Deu. L’emigració de la Vall d’Albaida a l’Argentina'
DESCRIPTION:Dimecres 29 de juny a les 19.00h. Estrena a València. Projecció presentada pels seus autors Casimir Romero\, Lluís Pérez i Josep Mira.  \n  \n  \n\n Projecció presentada pels tres autors\, Lluís Pérez\, Casimir Romero i Josep Mira.  Aquest documental fa una aproximació històrica a la desfeta econòmica i demogràfica de l’any 1910 a la Vall d’ Albaida i la subsegüent emigració a l’Argentina.  Després de l’època daurada de la vinya\, amb grans exportacions d’aiguardent i vins a tot Europa\, un insecte voraç anomenat Philoxera vastratix va assecar totes les vinyes que en aquell moment eren un monocultiu.  Un trenta per cent de la població activa valldalbaidina es va veure obligada a emigrar. Se n’anaren a Barcelona\, al sud de França i\, sobretot\, a l’Argentina.  A través dels testimonis indirectes de fills i néts d’aquells emigrants i de les aportacions de diverses persones (dos historiadors\, un biòleg\, un escriptor\, una agricultora\, un professor de literatura\, un artista plàstic)  podrem aproximar-nos a un capítol dramàtic de la història de la Vall d’Albaida\, també\, de les Comarques Centrals Valencianes .   Idea i guió: Casimir Romero (2016) Realització: Lluís Pérez Música: Josep Mira i  Pep Gimeno “Botifarra” Per ordre d’intervenció: Àngel Cambra\, Neus Tormo\, Fernando García\, Carles Fuster\, Joan Olivares\, Dolores Expósito\, Alberto Todolí\, Josep Sanchis\, Rafa Amorós\, Juan Osca\, Pau Font.  — Entrada lliure Organitzat amb la col·laboració d’El Cine Social Coordinació del cicle: Antonio Lloréns
URL:https://octubre.cat/activitat/lany-deu-lemigracio-de-la-vall-dalbaida-a-largentina/
LOCATION:Sala d’actes
CATEGORIES:Tercer cicle de cinema social
ATTACH;FMTTYPE=image/jpeg:https://octubre.cat/www/wp-content/uploads/2020/07/activitat2599.jpg
END:VEVENT
END:VCALENDAR