BEGIN:VCALENDAR
VERSION:2.0
PRODID:-//Octubre Centre de Cultura Contemporània - ECPv5.1.6//NONSGML v1.0//EN
CALSCALE:GREGORIAN
METHOD:PUBLISH
X-WR-CALNAME:Octubre Centre de Cultura Contemporània
X-ORIGINAL-URL:https://octubre.cat
X-WR-CALDESC:Events for Octubre Centre de Cultura Contemporània
BEGIN:VTIMEZONE
TZID:Europe/Andorra
BEGIN:DAYLIGHT
TZOFFSETFROM:+0100
TZOFFSETTO:+0200
TZNAME:CEST
DTSTART:20140330T010000
END:DAYLIGHT
BEGIN:STANDARD
TZOFFSETFROM:+0200
TZOFFSETTO:+0100
TZNAME:CET
DTSTART:20141026T010000
END:STANDARD
BEGIN:DAYLIGHT
TZOFFSETFROM:+0100
TZOFFSETTO:+0200
TZNAME:CEST
DTSTART:20150329T010000
END:DAYLIGHT
BEGIN:STANDARD
TZOFFSETFROM:+0200
TZOFFSETTO:+0100
TZNAME:CET
DTSTART:20151025T010000
END:STANDARD
END:VTIMEZONE
BEGIN:VEVENT
DTSTART;TZID=Europe/Andorra:20141215T000000
DTEND;TZID=Europe/Andorra:20150108T000000
DTSTAMP:20260421T034147
CREATED:20200729T170826Z
LAST-MODIFIED:20200730T041315Z
UID:10014-1418601600-1420675200@octubre.cat
SUMMARY:L’anarcosindicalisme\, de la transició als nostres dies
DESCRIPTION:Del 15 de desembre al 8 de gener de 2014. Exposició organitzada per CGT-València amb motiu de les XVI Jornades Llibertàries.  \n  \n  \n\n L’anarcosindicalisme\, moviment sindical de caràcter revolucionari i orientació anarquista\, va constituir al País Valencià una gran força revolucionària. A més a més\, durant la transició de la dictadura a la democràcia formal\, l’anarcosindicalisme tingué el seu moment\, el seu espai i la seua participació\, inclús també les seues víctimes com Valentín González entre altres.  Aquesta exposició mostra en imatges alguns dels moments claus. A través d’una selecció de documents volem recordar els seus protagonistes\, evocar les seues realitzacions\, recuperar la seua memòria i reivindicar la seua vigència.   …Canta la llibertat\, perquè la llibertat és la lluita per la llibertat. Altres vindran\, ja vénen\, cantant  la llibertat…  (Jesús Lizano\, Salm àcrata)   Comissaris: Rafa Maestre i Cristina Escrivà Organitzada per CGT-València amb motiu de les XVI Jornades Llibertàries\, amb la col·laboració de l’Octubre CCC  Inauguració: dilluns 15 de desembre a les 12.00h
URL:https://octubre.cat/activitat/lanarcosindicalisme-de-la-transicio-als-nostres-dies/
CATEGORIES:Exposicions
ATTACH;FMTTYPE=image/jpeg:https://octubre.cat/www/wp-content/uploads/2020/07/activitat2211.jpg
END:VEVENT
END:VCALENDAR