BEGIN:VCALENDAR
VERSION:2.0
PRODID:-//Octubre Centre de Cultura Contemporània - ECPv5.1.6//NONSGML v1.0//EN
CALSCALE:GREGORIAN
METHOD:PUBLISH
X-WR-CALNAME:Octubre Centre de Cultura Contemporània
X-ORIGINAL-URL:https://octubre.cat
X-WR-CALDESC:Events for Octubre Centre de Cultura Contemporània
BEGIN:VTIMEZONE
TZID:Europe/Andorra
BEGIN:DAYLIGHT
TZOFFSETFROM:+0100
TZOFFSETTO:+0200
TZNAME:CEST
DTSTART:20130331T010000
END:DAYLIGHT
BEGIN:STANDARD
TZOFFSETFROM:+0200
TZOFFSETTO:+0100
TZNAME:CET
DTSTART:20131027T010000
END:STANDARD
END:VTIMEZONE
BEGIN:VEVENT
DTSTART;TZID=Europe/Andorra:20130417T190000
DTEND;TZID=Europe/Andorra:20130417T190000
DTSTAMP:20260421T203126
CREATED:20200729T165943Z
LAST-MODIFIED:20200729T184033Z
UID:9487-1366225200-1366225200@octubre.cat
SUMMARY:L’amenaça de les espècies invasores sobre la biodiversitat de les Illes Galàpagos
DESCRIPTION:Dimecres 17 d’abril a les 19.00h. Conferència a càrrec d’Anna Traveset dins del cicle “La geografia de la vida. Als cent anys de la mort d’Alfred Russel Wallace” organitzat per l’Espai Ciència  \n  \n  \n\nConferència a càrrec d’Anna Traveset\, CSIC i Universitat de les Illes Balears  Les illes alberguen bona part de la biodiversitat amenaçada. Preservar i restaurar la integritat d’interaccions entre les espècies natives és realment un repte. Les illes Galàpagos són actualment un dels arxipèlags oceànics més envaïts\, amb prop d’un 60% de la flora introduïda pels humans i una gran fracció d’invertebrats terrestres també exòtics\, sobretot insectes. Aquestes espècies exòtiques estableixen noves interaccions amb les natives\, afectant molt l’estructura i l’estabilitat de les comunitats.  Anna Traveset és doctora en biologia per la Universitat de Pennsylvania i professora d’investigació del CSIC a l’Institut Mediterrani d’Estudis Avançats (CSIC-UIB). La seua recerca principal tracta de les interaccions entre plantes i animals\, sobretot la pol·linització i dispersió de llavors des perspectives ecològiques i evolutives. Des de que treballa a les Illes Balears\, s’ha especialitzat en sistemes insulars\, amb l’objectiu d’analitzar fins a quin punt les interaccions biòtiques són claus per al manteniment de la seua biodiversitat. També s’interessa pels mecanismes pels quals aquestes interacciones estan amenaçades per diferents motors de canvi global. Des de fa uns anys també investiga a les Illes Canàries i a les Galàpagos.
URL:https://octubre.cat/activitat/lamenaca-de-les-especies-invasores-sobre-la-biodiversitat-de-les-illes-galapagos/
CATEGORIES:Espai Ciència
ATTACH;FMTTYPE=image/jpeg:https://octubre.cat/www/wp-content/uploads/2020/07/activitat1739.jpg
END:VEVENT
END:VCALENDAR