BEGIN:VCALENDAR
VERSION:2.0
PRODID:-//Octubre Centre de Cultura Contemporània - ECPv5.1.6//NONSGML v1.0//EN
CALSCALE:GREGORIAN
METHOD:PUBLISH
X-WR-CALNAME:Octubre Centre de Cultura Contemporània
X-ORIGINAL-URL:https://octubre.cat
X-WR-CALDESC:Events for Octubre Centre de Cultura Contemporània
BEGIN:VTIMEZONE
TZID:Europe/Andorra
BEGIN:DAYLIGHT
TZOFFSETFROM:+0100
TZOFFSETTO:+0200
TZNAME:CEST
DTSTART:20080330T010000
END:DAYLIGHT
BEGIN:STANDARD
TZOFFSETFROM:+0200
TZOFFSETTO:+0100
TZNAME:CET
DTSTART:20081026T010000
END:STANDARD
END:VTIMEZONE
BEGIN:VEVENT
DTSTART;TZID=Europe/Andorra:20080414T000000
DTEND;TZID=Europe/Andorra:20080504T000000
DTSTAMP:20260420T215724
CREATED:20200729T181841Z
LAST-MODIFIED:20251228T164345Z
UID:12560-1208131200-1209859200@octubre.cat
SUMMARY:L’agència Al-Zur: Deconstruint Osama
DESCRIPTION:Dos fotoperiodistes d’Al-Zur (l’agència de notícies establida a Qatar) aconseguiren en novembre de 2006 un dels scoops més importants dels darrers temps. Mohammed ben Kalish Ezab i Omar ben Salaad són\, en efecte\, els autors d’un dels reportatges més inverosímils mai aconseguits pel periodisme d’investigació. Ben Kalish i Ben Salaad seguiren les petges dels darrers anys del doctor Fasqiyta-Ul Junat\, un dels dirigents de l’operatiu militar d’Al Qaeda i bastiren una imatge de com Occident considera el món àrab. Una exposició que no deixarà ningú indiferent. \n \nAquesta exposició forma part de Spectra. Primer Simposi Mundial sobre Teories de la Conspiració\, celebrat a l’Octubre CCC del 17 al 19 d’abril de 2008.
URL:https://octubre.cat/activitat/lagencia-al-zur-deconstruint-osama/
LOCATION:Sala d’exposicions
CATEGORIES:Exposicions,Spectra
ATTACH;FMTTYPE=image/jpeg:https://octubre.cat/www/wp-content/uploads/2020/07/zur.jpg
END:VEVENT
END:VCALENDAR