BEGIN:VCALENDAR
VERSION:2.0
PRODID:-//Octubre Centre de Cultura Contemporània - ECPv5.1.6//NONSGML v1.0//EN
CALSCALE:GREGORIAN
METHOD:PUBLISH
X-WR-CALNAME:Octubre Centre de Cultura Contemporània
X-ORIGINAL-URL:https://octubre.cat
X-WR-CALDESC:Events for Octubre Centre de Cultura Contemporània
BEGIN:VTIMEZONE
TZID:Europe/Andorra
BEGIN:DAYLIGHT
TZOFFSETFROM:+0100
TZOFFSETTO:+0200
TZNAME:CEST
DTSTART:20250330T010000
END:DAYLIGHT
BEGIN:STANDARD
TZOFFSETFROM:+0200
TZOFFSETTO:+0100
TZNAME:CET
DTSTART:20251026T010000
END:STANDARD
END:VTIMEZONE
BEGIN:VEVENT
DTSTART;TZID=Europe/Andorra:20250911T170000
DTEND;TZID=Europe/Andorra:20250911T170000
DTSTAMP:20260420T191045
CREATED:20250709T085358Z
LAST-MODIFIED:20250911T115726Z
UID:23201-1757610000-1757610000@octubre.cat
SUMMARY:Laboratori d’escriptura «La teoria feminista aplicada al teatre» impartit per Núria Vizcarro Boix
DESCRIPTION:Introducció a l’escriptura teatral i investigació al voltant de l’aplicació dels principis de la teoria feminista per pensar i escriure una peça teatral. \nEl contingut del curs es pot consultar al nostre blog \nCaracterístiques del curs:\n4 sessions els dijous 11\, 18 i 25 de setembre i 2 d’octubre de 2025\nHorari de 17.00h a 20.00h (12 hores en total\, 3 hores per sessió)\nMàxim 20 alumnes \nMatrícula:\nPúblic general: 25€\nSocis d’Acció Cultural del País Valencià: 5€\n–Inscripcions a través del correu ltomas@octubre.cat (en l’assumpte indiqueu “Laboratori d’escriptura”) \n—\nOrganitzat per Acció Cultural del País Valencià
URL:https://octubre.cat/activitat/laboratori-descriptura-la-teoria-feminista-aplicada-al-teatre-impartit-per-nuria-vizcarro-boix/
LOCATION:Àtic
CATEGORIES:Els tallers de l'Octubre,Literatura
ATTACH;FMTTYPE=image/jpeg:https://octubre.cat/www/wp-content/uploads/2025/06/La-Ravalera-Antimulleriana-estrena047.jpg
END:VEVENT
END:VCALENDAR