BEGIN:VCALENDAR
VERSION:2.0
PRODID:-//Octubre Centre de Cultura Contemporània - ECPv5.1.6//NONSGML v1.0//EN
CALSCALE:GREGORIAN
METHOD:PUBLISH
X-WR-CALNAME:Octubre Centre de Cultura Contemporània
X-ORIGINAL-URL:https://octubre.cat
X-WR-CALDESC:Events for Octubre Centre de Cultura Contemporània
BEGIN:VTIMEZONE
TZID:Europe/Andorra
BEGIN:DAYLIGHT
TZOFFSETFROM:+0100
TZOFFSETTO:+0200
TZNAME:CEST
DTSTART:20070325T010000
END:DAYLIGHT
BEGIN:STANDARD
TZOFFSETFROM:+0200
TZOFFSETTO:+0100
TZNAME:CET
DTSTART:20071028T010000
END:STANDARD
END:VTIMEZONE
BEGIN:VEVENT
DTSTART;TZID=Europe/Andorra:20070531T190000
DTEND;TZID=Europe/Andorra:20070531T190000
DTSTAMP:20260420T203916
CREATED:20251207T170411Z
LAST-MODIFIED:20251207T170411Z
UID:24182-1180638000-1180638000@octubre.cat
SUMMARY:La visió en el món
DESCRIPTION:“La visió en el món. La comparació dels problemes de la visió en el món desenvolupat i el subdesenvolupat: estratègies per a corregir-los”\nA càrrec d’Antoni López Alemany\, president de l’Associació Ulleye\, oftalmòleg\, optòmetra i professor titular del departament d0’Òptica de la Universitat de València.
URL:https://octubre.cat/activitat/la-visio-en-el-mon/
LOCATION:Aula 1
CATEGORIES:Societat Valenciana de Ciències de la Salut
ATTACH;FMTTYPE=image/jpeg:https://octubre.cat/www/wp-content/uploads/2020/07/conferencia1.jpg
END:VEVENT
END:VCALENDAR