BEGIN:VCALENDAR
VERSION:2.0
PRODID:-//Octubre Centre de Cultura Contemporània - ECPv5.1.6//NONSGML v1.0//EN
CALSCALE:GREGORIAN
METHOD:PUBLISH
X-WR-CALNAME:Octubre Centre de Cultura Contemporània
X-ORIGINAL-URL:https://octubre.cat
X-WR-CALDESC:Events for Octubre Centre de Cultura Contemporània
BEGIN:VTIMEZONE
TZID:Europe/Andorra
BEGIN:DAYLIGHT
TZOFFSETFROM:+0100
TZOFFSETTO:+0200
TZNAME:CEST
DTSTART:20180325T010000
END:DAYLIGHT
BEGIN:STANDARD
TZOFFSETFROM:+0200
TZOFFSETTO:+0100
TZNAME:CET
DTSTART:20181028T010000
END:STANDARD
END:VTIMEZONE
BEGIN:VEVENT
DTSTART;TZID=Europe/Andorra:20180925T180000
DTEND;TZID=Europe/Andorra:20180925T180000
DTSTAMP:20260423T071554
CREATED:20200729T173114Z
LAST-MODIFIED:20200729T190916Z
UID:11257-1537898400-1537898400@octubre.cat
SUMMARY:"La strada"\, de Federico Fellini
DESCRIPTION:Dimarts 25 de setembre a les 18.00h. “El pallasso\, tècnica i emoció”. Amb Jimena Cavalletti\, directora i pallassa. Projecció inclosa en el cicle de cinema “El Pallasso i el Mediterrani” organitzat per Mostra Viva del Mediterrani 2018 amb la col·laboració de l’Octubre CCC. Entrada lliure.	 \n  \n  \n\n 	 “El pallasso\, tècnica i emoció”. Amb Daniel Gascó acompanyat per Jimena Cavalletti\, directora i pallassa\, i projecció de La strada\, de Federico Fellini. La irrupció de la dona en l’univers del pallasso.  Quan Zampanó\, un artista ambulant\, enviuda\, compra a Gelsomina\, la germana de la seua dona\, sense que la mare d’aquesta opose la menor resistència. Malgrat el caràcter violent i agressiu de Zampanó\, la xica se sent atreta per l’estil de vida nòmada\, sempre al carrer (la “strada”\, en italià)\, sobretot quan el seu amo la inclou en l’espectacle.  Direcció: Federico Fellini (1954) Guió: Tullio Pinelli\, Federico Fellini Música: Nino Rota Fotografia: Otello Martelli Repartiment: Anthony Quinn\, Giulietta Masina\, Richard Basehart\, Aldo Silvani\, Marcella Rovere\, Livia Venturini Producció: Ponti – De Laurentiis Durada: 103’  — Cicle de cinema “El Pallasso i el Mediterrani” organitzat per Mostra Viva del Mediterrani 2018 amb la col·laboració de l’Octubre CCC. Entrada lliure.
URL:https://octubre.cat/activitat/la-strada-de-federico-fellini/
LOCATION:Sala d’actes
CATEGORIES:Cinema
ATTACH;FMTTYPE=image/jpeg:https://octubre.cat/www/wp-content/uploads/2020/07/activitat3097.jpg
END:VEVENT
END:VCALENDAR