BEGIN:VCALENDAR
VERSION:2.0
PRODID:-//Octubre Centre de Cultura Contemporània - ECPv5.1.6//NONSGML v1.0//EN
CALSCALE:GREGORIAN
METHOD:PUBLISH
X-WR-CALNAME:Octubre Centre de Cultura Contemporània
X-ORIGINAL-URL:https://octubre.cat
X-WR-CALDESC:Events for Octubre Centre de Cultura Contemporània
BEGIN:VTIMEZONE
TZID:Europe/Andorra
BEGIN:DAYLIGHT
TZOFFSETFROM:+0100
TZOFFSETTO:+0200
TZNAME:CEST
DTSTART:20080330T010000
END:DAYLIGHT
BEGIN:STANDARD
TZOFFSETFROM:+0200
TZOFFSETTO:+0100
TZNAME:CET
DTSTART:20081026T010000
END:STANDARD
END:VTIMEZONE
BEGIN:VEVENT
DTSTART;TZID=Europe/Andorra:20080703T193000
DTEND;TZID=Europe/Andorra:20080703T193000
DTSTAMP:20260420T210234
CREATED:20200729T181939Z
LAST-MODIFIED:20200730T035810Z
UID:12619-1215113400-1215113400@octubre.cat
SUMMARY:La societat civil davant del Pla d’Acció Territorial de l’Horta
DESCRIPTION:Dijous 3 de juliol\, 19.30h Conferència “La societat civil davant del Pla de l’Horta”  \n  \n  \n\nIntervindran: Josep Gavaldà (Per l’Horta)\, Ferran Gregori (Unió de Llauradors)\, Antonio Montiel (advocat) i José Vicente Sánchez (vicepresident del Col•legi de Geògrafs CV)  Anàlisi i debat del Pla d’Acció Territorial de l’Horta presentat el passat 11 de juny per la Generalitat Valenciana on es posa en joc el futur d’aquest espai emblemàtic del País Valencià.  Organitzen: Institut del Territori\, Per l’Horta i Unió de Llauradors\, amb la col·laboració de l’Octubre CCC
URL:https://octubre.cat/activitat/la-societat-civil-davant-del-pla-daccio-territorial-de-lhorta/
LOCATION:No definit
CATEGORIES:Institut del Territori
ATTACH;FMTTYPE=image/jpeg:https://octubre.cat/www/wp-content/uploads/2020/07/conferencia1.jpg
END:VEVENT
END:VCALENDAR