BEGIN:VCALENDAR
VERSION:2.0
PRODID:-//Octubre Centre de Cultura Contemporània - ECPv5.1.6//NONSGML v1.0//EN
CALSCALE:GREGORIAN
METHOD:PUBLISH
X-WR-CALNAME:Octubre Centre de Cultura Contemporània
X-ORIGINAL-URL:https://octubre.cat
X-WR-CALDESC:Events for Octubre Centre de Cultura Contemporània
BEGIN:VTIMEZONE
TZID:Europe/Andorra
BEGIN:DAYLIGHT
TZOFFSETFROM:+0100
TZOFFSETTO:+0200
TZNAME:CEST
DTSTART:20070325T010000
END:DAYLIGHT
BEGIN:STANDARD
TZOFFSETFROM:+0200
TZOFFSETTO:+0100
TZNAME:CET
DTSTART:20071028T010000
END:STANDARD
END:VTIMEZONE
BEGIN:VEVENT
DTSTART;TZID=Europe/Andorra:20071031T193000
DTEND;TZID=Europe/Andorra:20071031T193000
DTSTAMP:20260420T215428
CREATED:20200729T181535Z
LAST-MODIFIED:20200730T035505Z
UID:12383-1193859000-1193859000@octubre.cat
SUMMARY:La simfonia de les grues
DESCRIPTION:Dimarts 30\, 19:30 h. Documental de Giovanna Ribes que suma dues fascinacions: les grues i la percussió. Narra el procés de creació del compositor i percussionista valencià Jesús Salvador\, Chapi. En el documental Chapi se sent atret per les grues\, les veu com monstres amb figura d’insecte i acaba amb un estrany concert al port de València.   \n  \n  \n\nDe Giovanna Ribes    Un documental que suma dues fascinacions: les grues i la percussió. Narra el procés de creació del compositor i percussionista valencià Jesús Salvador\, Chapi (líder del “Amores Grup de Percussió”\, professor del conservatori de València). En el documental Chapi se sent atret per les grues\, les veu com monstres amb figura d’insecte i acaba amb un estrany concert al port de València.          FITXA TÈCNICA  direcció: Giovanna Ribes guió:  Giovanna Ribes producció: Pablo Carrera fotografia: Juan Reina muntatge: Álvaro Olavarría música: Jesús Salvador “Chapi” any producció: 2005    IMATGE.  www.mostravalencia.com  2006   /   documentals
URL:https://octubre.cat/activitat/la-simfonia-de-les-grues/
LOCATION:No definit
CATEGORIES:Cicle de Documentals
ATTACH;FMTTYPE=image/jpeg:https://octubre.cat/www/wp-content/uploads/2020/07/activitat359.jpg
END:VEVENT
END:VCALENDAR