BEGIN:VCALENDAR
VERSION:2.0
PRODID:-//Octubre Centre de Cultura Contemporània - ECPv5.1.6//NONSGML v1.0//EN
CALSCALE:GREGORIAN
METHOD:PUBLISH
X-WR-CALNAME:Octubre Centre de Cultura Contemporània
X-ORIGINAL-URL:https://octubre.cat
X-WR-CALDESC:Events for Octubre Centre de Cultura Contemporània
BEGIN:VTIMEZONE
TZID:Europe/Andorra
BEGIN:DAYLIGHT
TZOFFSETFROM:+0100
TZOFFSETTO:+0200
TZNAME:CEST
DTSTART:20140330T010000
END:DAYLIGHT
BEGIN:STANDARD
TZOFFSETFROM:+0200
TZOFFSETTO:+0100
TZNAME:CET
DTSTART:20141026T010000
END:STANDARD
END:VTIMEZONE
BEGIN:VEVENT
DTSTART;TZID=Europe/Andorra:20140305T190000
DTEND;TZID=Europe/Andorra:20140305T190000
DTSTAMP:20260421T054845
CREATED:20200729T170347Z
LAST-MODIFIED:20200729T184401Z
UID:9716-1394046000-1394046000@octubre.cat
SUMMARY:'La simfonia de les grues'\, de Giovanna Ribes
DESCRIPTION:Dimecres 5 de març a les 19.00h. Projecció presentada per la directora dins del cicle de cinema “Producció valenciana”  \n  \n  \n\n Projecció presentada per la directora  Un documental que suma dues fascinacions: les grues i la percussió. Narra el procés de creació del compositor i percussionista valencià Jesús Salvador\, ‘Chapi’ (líder de l'”Amores Grup de Percussió” i professor del conservatori de València). En el documental\, Chapi se sent atret per les grues\, les veu com monstres amb figura d’insecte i acaba amb un estrany concert al port de València.  FITXA TÈCNICA direcció: Giovanna Ribes guió:  Giovanna Ribes producció: Pablo Carrera fotografia: Juan Reina muntatge: Álvaro Olavarría música: Jesús Salvador “Chapi” any producció: 2005  Amb la col·laboració de Mostra Viva
URL:https://octubre.cat/activitat/la-simfonia-de-les-grues-de-giovanna-ribes/
LOCATION:Sala d’actes
CATEGORIES:Producció valenciana
ATTACH;FMTTYPE=image/jpeg:https://octubre.cat/www/wp-content/uploads/2020/07/activitat2011.jpg
END:VEVENT
END:VCALENDAR