BEGIN:VCALENDAR
VERSION:2.0
PRODID:-//Octubre Centre de Cultura Contemporània - ECPv5.1.6//NONSGML v1.0//EN
CALSCALE:GREGORIAN
METHOD:PUBLISH
X-WR-CALNAME:Octubre Centre de Cultura Contemporània
X-ORIGINAL-URL:https://octubre.cat
X-WR-CALDESC:Events for Octubre Centre de Cultura Contemporània
BEGIN:VTIMEZONE
TZID:Europe/Andorra
BEGIN:DAYLIGHT
TZOFFSETFROM:+0100
TZOFFSETTO:+0200
TZNAME:CEST
DTSTART:20200329T010000
END:DAYLIGHT
BEGIN:STANDARD
TZOFFSETFROM:+0200
TZOFFSETTO:+0100
TZNAME:CET
DTSTART:20201025T010000
END:STANDARD
END:VTIMEZONE
BEGIN:VEVENT
DTSTART;TZID=Europe/Andorra:20200310T183000
DTEND;TZID=Europe/Andorra:20200310T183000
DTSTAMP:20260421T090339
CREATED:20200729T191405Z
LAST-MODIFIED:20200729T191405Z
UID:13717-1583865000-1583865000@octubre.cat
SUMMARY:"La seva millor història"\, de  Lone Scherfig
DESCRIPTION:Dimarts 10 de març a les 18.30h. Organitzat per CAPPEPV\, Escola Valenciana i ACPV. Entrada gratuïta prèvia inscripció.	 \n  \n  \n\n 	 Un equip cinematogràfic britànic rep l’encàrrec de fer una pel·lícula patriòtica per a aixecar la moral de les tropes angleses després dels bombardejos de l’aviació nazi sobre Londres durant la Segona Guerra Mundial. El problema sorgirà quan es desencadene una autèntica batalla de sexes.  Direcció: Lone Scherfig (2016) Producció: Finola Dwyer Música: Rachel Portman  Fotografia: Sebastian Blenkov Repartiment: Gemma Arterton\, Sam Claflin\, Bill Nighy Doblada al català Durada: 117’  — Organitzat per CAPPEPV\, la Coordinadora de l’Horta Nord i Escola Valenciana amb la col·laboració d’Acció Cultural. L’entrada és gratuïta. Per fer la inscripció cal enviar un correu electrònic a cappepv@fev.org indicant nom\, cognoms i quantitat de places que es desitgen reservar.
URL:https://octubre.cat/activitat/la-seva-millor-historia-de-lone-scherfig/
LOCATION:Sala d’actes
CATEGORIES:Cinema
ATTACH;FMTTYPE=image/jpeg:https://octubre.cat/www/wp-content/uploads/2020/07/activitat3463.jpg
END:VEVENT
END:VCALENDAR