BEGIN:VCALENDAR
VERSION:2.0
PRODID:-//Octubre Centre de Cultura Contemporània - ECPv5.1.6//NONSGML v1.0//EN
CALSCALE:GREGORIAN
METHOD:PUBLISH
X-WR-CALNAME:Octubre Centre de Cultura Contemporània
X-ORIGINAL-URL:https://octubre.cat
X-WR-CALDESC:Events for Octubre Centre de Cultura Contemporània
BEGIN:VTIMEZONE
TZID:Europe/Andorra
BEGIN:DAYLIGHT
TZOFFSETFROM:+0100
TZOFFSETTO:+0200
TZNAME:CEST
DTSTART:20140330T010000
END:DAYLIGHT
BEGIN:STANDARD
TZOFFSETFROM:+0200
TZOFFSETTO:+0100
TZNAME:CET
DTSTART:20141026T010000
END:STANDARD
END:VTIMEZONE
BEGIN:VEVENT
DTSTART;TZID=Europe/Andorra:20141210T180000
DTEND;TZID=Europe/Andorra:20141210T180000
DTSTAMP:20260421T082152
CREATED:20200729T170828Z
LAST-MODIFIED:20200730T041318Z
UID:10016-1418234400-1418234400@octubre.cat
SUMMARY:La Sanitat del Canvi
DESCRIPTION:Dimecres 10 de desembre a partir de les 18.00h. I Jornada Sectorial de Sanitat de la Coalició Compromís  \n  \n  \n\n I Jornada Sectorial de Sanitat Propostes de Compromís per a millorar el sistema sanitari  Amb Mònica Oltra\, Amadeo Mezquita\, Antònia Chornet\, Enric Llopis\, Artur Garcia\, Sergio Mora\, Maria Josep Ortega i Isaura Navarro  Organitzat per la Sectorial de Sanitat de la Coalició Compromís
URL:https://octubre.cat/activitat/la-sanitat-del-canvi/
LOCATION:Aula 2
CATEGORIES:Conferències i congressos
ATTACH;FMTTYPE=image/jpeg:https://octubre.cat/www/wp-content/uploads/2020/07/activitat2213.jpg
END:VEVENT
END:VCALENDAR