BEGIN:VCALENDAR
VERSION:2.0
PRODID:-//Octubre Centre de Cultura Contemporània - ECPv5.1.6//NONSGML v1.0//EN
CALSCALE:GREGORIAN
METHOD:PUBLISH
X-WR-CALNAME:Octubre Centre de Cultura Contemporània
X-ORIGINAL-URL:https://octubre.cat
X-WR-CALDESC:Events for Octubre Centre de Cultura Contemporània
BEGIN:VTIMEZONE
TZID:Europe/Andorra
BEGIN:DAYLIGHT
TZOFFSETFROM:+0100
TZOFFSETTO:+0200
TZNAME:CEST
DTSTART:20110327T010000
END:DAYLIGHT
BEGIN:STANDARD
TZOFFSETFROM:+0200
TZOFFSETTO:+0100
TZNAME:CET
DTSTART:20111030T010000
END:STANDARD
END:VTIMEZONE
BEGIN:VEVENT
DTSTART;TZID=Europe/Andorra:20110302T190000
DTEND;TZID=Europe/Andorra:20110302T190000
DTSTAMP:20260420T210233
CREATED:20200729T165446Z
LAST-MODIFIED:20200730T042749Z
UID:9189-1299092400-1299092400@octubre.cat
SUMMARY:La Sanitat a Suècia des de la perspectiva d'un metge de família
DESCRIPTION:Dimecres 2 de març\, a les 19.00h: “La Sanitat a Suècia des de la perspectiva d’un metge de família”\, conferència a càrrec de Cristina Vivas Maiques\, metgessa de família al Centre de Salut d’Almussafes.   \n  \n  \n\nConferència a càrrec de Cristina Vivas Maiques\, metgessa de família al Centre de Salut d’Almussafes.   El sistema d’assistència sanitària a Suècia és de finançament públic i està fortament descentralitzat. Els ciutadans poden triar el metge o centre sanitari que desitgen\, però paguen una quantitat pel servei: entre 15-20 euros per visita\, siga generalista o especialista. Per a limitar les despeses dels pacients i malalts crònics\, hi ha una protecció contra costos elevats que implica que un cop superats els 85 euros de despesa\, totes les visites seran gratuïtes. Els ambulatoris funcionen\, en certa manera\, com a filtres. Els metges de família solen tractar la major part dels casos sense necessitat de derivar i disposen dels seus propis laboratoris\, on es processen les proves ràpidament. A més\, a Suècia\, existeix un gran reconeixement de la tasca investigadora del metge de família.
URL:https://octubre.cat/activitat/la-sanitat-a-suecia-des-de-la-perspectiva-dun-metge-de-familia/
LOCATION:No definit
CATEGORIES:Societat Valenciana de Ciències de la Salut
ATTACH;FMTTYPE=image/jpeg:https://octubre.cat/www/wp-content/uploads/2020/07/activitat1415.jpg
END:VEVENT
END:VCALENDAR