BEGIN:VCALENDAR
VERSION:2.0
PRODID:-//Octubre Centre de Cultura Contemporània - ECPv5.1.6//NONSGML v1.0//EN
CALSCALE:GREGORIAN
METHOD:PUBLISH
X-WR-CALNAME:Octubre Centre de Cultura Contemporània
X-ORIGINAL-URL:https://octubre.cat
X-WR-CALDESC:Events for Octubre Centre de Cultura Contemporània
BEGIN:VTIMEZONE
TZID:Europe/Andorra
BEGIN:DAYLIGHT
TZOFFSETFROM:+0100
TZOFFSETTO:+0200
TZNAME:CEST
DTSTART:20060326T010000
END:DAYLIGHT
BEGIN:STANDARD
TZOFFSETFROM:+0200
TZOFFSETTO:+0100
TZNAME:CET
DTSTART:20061029T010000
END:STANDARD
END:VTIMEZONE
BEGIN:VEVENT
DTSTART;TZID=Europe/Andorra:20061114T190000
DTEND;TZID=Europe/Andorra:20061114T190000
DTSTAMP:20260420T222257
CREATED:20251207T154152Z
LAST-MODIFIED:20251207T154152Z
UID:24148-1163530800-1163530800@octubre.cat
SUMMARY:La resplendor de l'Univers
DESCRIPTION:“La resplendor de l’Univers. Per què la nit és fosca? O no ho és”\nA càrrec de Vicent Martínez\, director de l’Observatori Astronòmic de la Universitat de València.
URL:https://octubre.cat/activitat/la-resplendor-de-lunivers/
LOCATION:No definit
CATEGORIES:Cicle "Més enllà de l'espai"
ATTACH;FMTTYPE=image/jpeg:https://octubre.cat/www/wp-content/uploads/2025/12/Voyager.jpg
END:VEVENT
END:VCALENDAR