BEGIN:VCALENDAR
VERSION:2.0
PRODID:-//Octubre Centre de Cultura Contemporània - ECPv5.1.6//NONSGML v1.0//EN
CALSCALE:GREGORIAN
METHOD:PUBLISH
X-WR-CALNAME:Octubre Centre de Cultura Contemporània
X-ORIGINAL-URL:https://octubre.cat
X-WR-CALDESC:Events for Octubre Centre de Cultura Contemporània
BEGIN:VTIMEZONE
TZID:Europe/Andorra
BEGIN:DAYLIGHT
TZOFFSETFROM:+0100
TZOFFSETTO:+0200
TZNAME:CEST
DTSTART:20160327T010000
END:DAYLIGHT
BEGIN:STANDARD
TZOFFSETFROM:+0200
TZOFFSETTO:+0100
TZNAME:CET
DTSTART:20161030T010000
END:STANDARD
END:VTIMEZONE
BEGIN:VEVENT
DTSTART;TZID=Europe/Andorra:20160218T190000
DTEND;TZID=Europe/Andorra:20160218T190000
DTSTAMP:20260421T170934
CREATED:20200729T171616Z
LAST-MODIFIED:20200729T185409Z
UID:10513-1455822000-1455822000@octubre.cat
SUMMARY:La relació metge-malalt i la deshumanització de la medicina
DESCRIPTION:Dijous 18 de febrer a les 19.00h. Taula rodona organitzada per la Societat Valenciana de Ciències de la Salut “Joan B. Peset”.  \n  \n  \n\n Taula rodona amb  -Enric Martínez Puertes\, metge de Família\, Benetússer  -José Ramon Soriano\, psicòleg  -Josep Vanaclocha Calatayud\, advocat  -Carmen Payà Lorente\, metgessa resident de cirurgia\, Hospital Dr Peset de València  -Moderador: Ramon Trullenque\, Junta Directiva SVCS Peset  Organitzat per la Societat Valenciana de Ciències de la Salut “Joan B. Peset”
URL:https://octubre.cat/activitat/la-relacio-metge-malalt-i-la-deshumanitzacio-de-la-medicina/
CATEGORIES:Conferències i congressos
ATTACH;FMTTYPE=image/jpeg:https://octubre.cat/www/wp-content/uploads/2020/07/activitat2503.jpg
END:VEVENT
END:VCALENDAR