BEGIN:VCALENDAR
VERSION:2.0
PRODID:-//Octubre Centre de Cultura Contemporània - ECPv5.1.6//NONSGML v1.0//EN
CALSCALE:GREGORIAN
METHOD:PUBLISH
X-WR-CALNAME:Octubre Centre de Cultura Contemporània
X-ORIGINAL-URL:https://octubre.cat
X-WR-CALDESC:Events for Octubre Centre de Cultura Contemporània
BEGIN:VTIMEZONE
TZID:Europe/Andorra
BEGIN:DAYLIGHT
TZOFFSETFROM:+0100
TZOFFSETTO:+0200
TZNAME:CEST
DTSTART:20170326T010000
END:DAYLIGHT
BEGIN:STANDARD
TZOFFSETFROM:+0200
TZOFFSETTO:+0100
TZNAME:CET
DTSTART:20171029T010000
END:STANDARD
END:VTIMEZONE
BEGIN:VEVENT
DTSTART;TZID=Europe/Andorra:20171110T190000
DTEND;TZID=Europe/Andorra:20171110T190000
DTSTAMP:20260421T111400
CREATED:20200729T190202Z
LAST-MODIFIED:20200729T190202Z
UID:13269-1510340400-1510340400@octubre.cat
SUMMARY:La recuperació del mural d’Erfurt de Josep Renau
DESCRIPTION:Divendres 10 de novembre a les 19.00h. Amb Philip Kurz (Fundació Wüstenrot)\, Oliver Sukrow (Universitat de Heidelberg) i Marta Hofmann (artista).  \n  \n  \n\n L’any 1982 –el mateix de la mort de l’artista— es va instal·lar a la ciutat d’Erfurt (República Democràtica d’Alemanya) el mural “Die Beziehung des Menschen zu Natur und Technik” (conegut com a “L’home\, la naturalesa i la tècnica”)\, que va ser la darrera obra de Josep Renau i\, fins i tot\, la que també pot qualificar-se com la darrera obra de l’exili republicà. La instal·lació va ser feta al Kulturkomplex Stadt Moskau\, centre cultural d’un barri de nova creació de l’actual capital del land de Turíngia. L’any 2008\, ja reunificada Alemanya\, l’ajuntament d’Erfurt va vendre l’immoble a una companyia privada per a construir un centre comercial. El futur del mural era incert i només les pressions de la Fundació Josep Renau davant les autoritats alemanyes van impedir la seua destrucció. El mural\, posteriorment\, va ser convenientment desmuntat i guardat. Després de moltes vicissituds\, l’any 2015 l’Ajuntament d’Erfurt va decidir la seua reconstrucció sobre el nou edifici i per fer-ho compta amb la important col·laboració econòmica i l’assessorament de la Fundació Wüstenrot\, especialitzada en la recuperació del patrimoni alemany. Les obres ja estan força avançades i\, per explicar el procés i la situació de la reconstrucció del mural\, comptarem amb la participació de:  —Philip Kurz\, gerent de la Wüstenrot Stiftung. —Oliver Sukrow\, de l’Institut für Europäische Kunstgeschichte de la Universitat de Heidelberg i professor de la Universitat Tècnica de Viena. —Marta Hofmann\, artista\, assistent i alumna de Josep Renau. Delegada de la Fundació Josep Renau a Berlín.
URL:https://octubre.cat/activitat/la-recuperacio-del-mural-derfurt-de-josep-renau/
LOCATION:Sala d’actes
CATEGORIES:Conferències i congressos
ATTACH;FMTTYPE=image/jpeg:https://octubre.cat/www/wp-content/uploads/2020/07/activitat2909.jpg
END:VEVENT
END:VCALENDAR