BEGIN:VCALENDAR
VERSION:2.0
PRODID:-//Octubre Centre de Cultura Contemporània - ECPv5.1.6//NONSGML v1.0//EN
CALSCALE:GREGORIAN
METHOD:PUBLISH
X-WR-CALNAME:Octubre Centre de Cultura Contemporània
X-ORIGINAL-URL:https://octubre.cat
X-WR-CALDESC:Events for Octubre Centre de Cultura Contemporània
BEGIN:VTIMEZONE
TZID:Europe/Andorra
BEGIN:DAYLIGHT
TZOFFSETFROM:+0100
TZOFFSETTO:+0200
TZNAME:CEST
DTSTART:20110327T010000
END:DAYLIGHT
BEGIN:STANDARD
TZOFFSETFROM:+0200
TZOFFSETTO:+0100
TZNAME:CET
DTSTART:20111030T010000
END:STANDARD
END:VTIMEZONE
BEGIN:VEVENT
DTSTART;TZID=Europe/Andorra:20110223T180000
DTEND;TZID=Europe/Andorra:20110223T180000
DTSTAMP:20260420T194045
CREATED:20200729T165442Z
LAST-MODIFIED:20200730T042745Z
UID:9185-1298484000-1298484000@octubre.cat
SUMMARY:La problemàtica mediambiental de la Mediterrània
DESCRIPTION:Dimecres 23 de febrer\, a les 18.00h: “La problemàtica mediambiental de la Mediterrània”\, conferència a càrrec de Raül Romeva (eurodiputat ICV-Verds).   \n  \n  \n\nLa problemàtica mediambiental de la Mediterrània  Conferència a càrrec de Raül Romeva (eurodiputat d’Iniciativa per Catalunya-Verds\, ICV).  Raül Romeva és doctor en Relacions Internacionals i llicenciat en Ciències Econòmiques. Actualment és analista investigador sobre conflictes armats i rehabilitació postbèl·lica a l’Escola de Cultura de Pau de la UAB i consultor  de les Nacions Unides\, així com ajudant principal del representant de la UNESCO a Bòsnia i Hercegovina. És autor de diversos llibres i publicacions\, entre les quals destaquen:  Pau i seguretat a Europa (1998); Desarme y desarrollo (2000); Guerra\, posguerra y paz: pautas para el análisis y la intervención en contextos posbélicos o postacuerdo (2003)\, Bosnia en paz: lecciones\, retos y oportunidades de una posguerra contemporánea (2003).   Organitza: Iniciativa PV
URL:https://octubre.cat/activitat/la-problematica-mediambiental-de-la-mediterrania/
LOCATION:No definit
CATEGORIES:Conferències i congressos
ATTACH;FMTTYPE=image/jpeg:https://octubre.cat/www/wp-content/uploads/2020/07/activitat1410.jpg
END:VEVENT
END:VCALENDAR