BEGIN:VCALENDAR
VERSION:2.0
PRODID:-//Octubre Centre de Cultura Contemporània - ECPv5.1.6//NONSGML v1.0//EN
CALSCALE:GREGORIAN
METHOD:PUBLISH
X-WR-CALNAME:Octubre Centre de Cultura Contemporània
X-ORIGINAL-URL:https://octubre.cat
X-WR-CALDESC:Events for Octubre Centre de Cultura Contemporània
BEGIN:VTIMEZONE
TZID:Europe/Andorra
BEGIN:DAYLIGHT
TZOFFSETFROM:+0100
TZOFFSETTO:+0200
TZNAME:CEST
DTSTART:20140330T010000
END:DAYLIGHT
BEGIN:STANDARD
TZOFFSETFROM:+0200
TZOFFSETTO:+0100
TZNAME:CET
DTSTART:20141026T010000
END:STANDARD
END:VTIMEZONE
BEGIN:VEVENT
DTSTART;TZID=Europe/Andorra:20141126T190000
DTEND;TZID=Europe/Andorra:20141126T190000
DTSTAMP:20260421T033011
CREATED:20200729T170740Z
LAST-MODIFIED:20200902T160138Z
UID:9964-1417028400-1417028400@octubre.cat
SUMMARY:'La por'\, de Jordi Cadena
DESCRIPTION:Dimecres 26 de novembre a les 19.00h. Projecció presentada pel director\, dins del cicle de cinema Barcelona Escenari  \n  \n  \n\n Projecció presentada i comentada pel director  El Manel té setze anys\, és un bon estudiant i un bon company. El seu millor amic és el Xavi\, i la Laura\, la noia amb la que surt. Els dos van a classe amb ell. Compta amb l’estima dels professors i amb l’amistat de l’entrenador de l’equip de bàsquet. Tanmateix no és capaç d’explicar a ningú el que passa a casa seva. Només pensa en poder començar a treballar ben aviat per treure la seva mare i la seva germana d’aquell infern que estan vivint.  Direcció: Jordi Cadena (2013) Durada: 73′ Producció: Oberon Cinematogràfica\, amb la col·laboració de l’ICEC \, TVC\, MEDIA i ICF. Guió: Jordi Cadena i Núria Villazán sobre una novel·la de Lolita Bosch Intèrprets: Igor Szpakowski\, Ramón Madaula\, Roser Camí\, Alícia Falcó  — Cicle organitzat per l’Octubre CCC amb el patrocini de l’Institut de Cultura de Barcelona (ICUB). Col·labora: Mostra Viva Director del cicle: Antonio Llorens Entrada lliure
URL:https://octubre.cat/activitat/la-por-de-jordi-cadena/
LOCATION:Sala d’actes
CATEGORIES:Barcelona Escenari 2014 (cinema),Cinema
ATTACH;FMTTYPE=image/jpeg:https://octubre.cat/www/wp-content/uploads/2020/07/activitat2180.jpg
END:VEVENT
END:VCALENDAR