BEGIN:VCALENDAR
VERSION:2.0
PRODID:-//Octubre Centre de Cultura Contemporània - ECPv5.1.6//NONSGML v1.0//EN
CALSCALE:GREGORIAN
METHOD:PUBLISH
X-WR-CALNAME:Octubre Centre de Cultura Contemporània
X-ORIGINAL-URL:https://octubre.cat
X-WR-CALDESC:Events for Octubre Centre de Cultura Contemporània
BEGIN:VTIMEZONE
TZID:Europe/Andorra
BEGIN:DAYLIGHT
TZOFFSETFROM:+0100
TZOFFSETTO:+0200
TZNAME:CEST
DTSTART:20150329T010000
END:DAYLIGHT
BEGIN:STANDARD
TZOFFSETFROM:+0200
TZOFFSETTO:+0100
TZNAME:CET
DTSTART:20151025T010000
END:STANDARD
END:VTIMEZONE
BEGIN:VEVENT
DTSTART;TZID=Europe/Andorra:20150128T190000
DTEND;TZID=Europe/Andorra:20150128T190000
DTSTAMP:20260422T020216
CREATED:20200729T170842Z
LAST-MODIFIED:20200902T162827Z
UID:10030-1422471600-1422471600@octubre.cat
SUMMARY:'La por'\, de Jordi Cadena
DESCRIPTION:  \n\nDiemcres 28 de gener a les 19.00h. Projecció inclosa en el Cicle de Cinema Social. Entrada lliure \n \n\nEl Manel té setze anys\, és un bon estudiant i un bon company. El seu millor amic és el Xavi\, i la Laura\, la noia amb la que surt. Els dos van a classe amb ell. Compta amb l’estima dels professors i amb l’amistat de l’entrenador de l’equip de bàsquet. Tanmateix no és capaç d’explicar a ningú el que passa a casa seva. Només pensa en poder començar a treballar ben aviat per treure la seva mare i la seva germana d’aquell infern que estan vivint. Direcció: Jordi Cadena (2013) Durada: 73′ Producció: Oberon Cinematogràfica\, amb la col·laboració de l’ICEC \, TVC\, MEDIA i ICF. Guió: Jordi Cadena i Núria Villazán sobre una novel·la de Lolita Bosch Intèrprets: Igor Szpakowski\, Ramón Madaula\, Roser Camí\, Alícia Falcó Entrada lliure Organitzat amb la col·laboració d’El Cine Social Coordinació del cicle: Antonio Lloréns
URL:https://octubre.cat/activitat/la-por-de-jordi-cadena-2/
LOCATION:Sala d’actes
CATEGORIES:Cicle de cinema social
ATTACH;FMTTYPE=image/jpeg:https://octubre.cat/www/wp-content/uploads/2020/07/activitat2229.jpg
END:VEVENT
END:VCALENDAR