BEGIN:VCALENDAR
VERSION:2.0
PRODID:-//Octubre Centre de Cultura Contemporània - ECPv5.1.6//NONSGML v1.0//EN
CALSCALE:GREGORIAN
METHOD:PUBLISH
X-WR-CALNAME:Octubre Centre de Cultura Contemporània
X-ORIGINAL-URL:https://octubre.cat
X-WR-CALDESC:Events for Octubre Centre de Cultura Contemporània
BEGIN:VTIMEZONE
TZID:Europe/Andorra
BEGIN:DAYLIGHT
TZOFFSETFROM:+0100
TZOFFSETTO:+0200
TZNAME:CEST
DTSTART:20230326T010000
END:DAYLIGHT
BEGIN:STANDARD
TZOFFSETFROM:+0200
TZOFFSETTO:+0100
TZNAME:CET
DTSTART:20231029T010000
END:STANDARD
END:VTIMEZONE
BEGIN:VEVENT
DTSTART;TZID=Europe/Andorra:20230516T190000
DTEND;TZID=Europe/Andorra:20230516T190000
DTSTAMP:20260422T103615
CREATED:20230425T164253Z
LAST-MODIFIED:20230425T164253Z
UID:19804-1684263600-1684263600@octubre.cat
SUMMARY:La Podcastera de l’Octubre: El Dolcet pal Cafè
DESCRIPTION:Gravació en directe d’un pòdcast amb públic\, a càrrec d’El Dolcet pal Cafè. \nEl Dolcet pal Cafè (@eldolcetpalcafe) és el pòdcast dels millenials valencians. En clau d’humor i a través dels més de 20 capítols que han fet en dues temporades\, han tractat temes diversos\, molts d’ells lligats al folklore i la cultura valenciana i han aconseguit ser un dels programes valencians amb més audiència. \nEntre altres llocs podeu seguir-los a Youtube\, Spotify i Ivoox. \nEntrada lliure (…i andespués\, un whiski!) \n  \n \n—\nOrganitzat per ACPV Joves
URL:https://octubre.cat/activitat/la-podcastera-de-loctubre-el-dolcet-pal-cafe/
LOCATION:Sala d’actes
CATEGORIES:La Podcastera de l'Octubre CCC
ATTACH;FMTTYPE=image/jpeg:https://octubre.cat/www/wp-content/uploads/2023/04/podcastera-general.jpg
END:VEVENT
END:VCALENDAR