BEGIN:VCALENDAR
VERSION:2.0
PRODID:-//Octubre Centre de Cultura Contemporània - ECPv5.1.6//NONSGML v1.0//EN
CALSCALE:GREGORIAN
METHOD:PUBLISH
X-WR-CALNAME:Octubre Centre de Cultura Contemporània
X-ORIGINAL-URL:https://octubre.cat
X-WR-CALDESC:Events for Octubre Centre de Cultura Contemporània
BEGIN:VTIMEZONE
TZID:Europe/Andorra
BEGIN:DAYLIGHT
TZOFFSETFROM:+0100
TZOFFSETTO:+0200
TZNAME:CEST
DTSTART:20230326T010000
END:DAYLIGHT
BEGIN:STANDARD
TZOFFSETFROM:+0200
TZOFFSETTO:+0100
TZNAME:CET
DTSTART:20231029T010000
END:STANDARD
END:VTIMEZONE
BEGIN:VEVENT
DTSTART;TZID=Europe/Andorra:20231114T190000
DTEND;TZID=Europe/Andorra:20231114T190000
DTSTAMP:20260420T153412
CREATED:20230717T085326Z
LAST-MODIFIED:20231109T093046Z
UID:20208-1699988400-1699988400@octubre.cat
SUMMARY:La Podcastera de l’Octubre: Cinestèsia
DESCRIPTION:Gravació en directe d’un pòdcast amb públic\, a càrrec de Cinestèsia\, un programa sobre cinema i sèries enregistrat a Ràdio Godella i produït per la Xarxa d’Emissores Municipals Valencianes. \nAmb la participació especial de Laura Garcia Andreu (cineasta i antropòloga) i Marta Romero Coll (directora de cinema) \nEntre altres llocs podeu seguir-los a Spotify\, Ivoox i Podcasts.cat \nEntrada lliure. \n  \n \n—\nOrganitzat per ACPV Joves
URL:https://octubre.cat/activitat/la-podcastera-de-loctubre-cinestesia/
LOCATION:Sala d’actes
CATEGORIES:La Podcastera de l'Octubre CCC
ATTACH;FMTTYPE=image/jpeg:https://octubre.cat/www/wp-content/uploads/2023/04/podcastera-general.jpg
END:VEVENT
END:VCALENDAR