BEGIN:VCALENDAR
VERSION:2.0
PRODID:-//Octubre Centre de Cultura Contemporània - ECPv5.1.6//NONSGML v1.0//EN
CALSCALE:GREGORIAN
METHOD:PUBLISH
X-WR-CALNAME:Octubre Centre de Cultura Contemporània
X-ORIGINAL-URL:https://octubre.cat
X-WR-CALDESC:Events for Octubre Centre de Cultura Contemporània
BEGIN:VTIMEZONE
TZID:Europe/Andorra
BEGIN:DAYLIGHT
TZOFFSETFROM:+0100
TZOFFSETTO:+0200
TZNAME:CEST
DTSTART:20080330T010000
END:DAYLIGHT
BEGIN:STANDARD
TZOFFSETFROM:+0200
TZOFFSETTO:+0100
TZNAME:CET
DTSTART:20081026T010000
END:STANDARD
END:VTIMEZONE
BEGIN:VEVENT
DTSTART;TZID=Europe/Andorra:20080405T100000
DTEND;TZID=Europe/Andorra:20080405T100000
DTSTAMP:20260421T080200
CREATED:20200729T181831Z
LAST-MODIFIED:20200730T035716Z
UID:12550-1207389600-1207389600@octubre.cat
SUMMARY:La memòria oral. Eines i experiències
DESCRIPTION:La convocatòria del VII congrés de la Coordinadora de Centres d’Estudis de Parla Catalana (CCEPC) “Progressos migratoris a les terres de parla catalana” que s’ha de celebrar a València els dies 16\, 17 i 18 d’octubre de 2008\, ens porta a organitzar actes diversos per a informar del programa i promoure la participació.  La del dia 5 serà una jornada informativa que\, per tal de fer-la més atracativa\, es completarà amb la presentació d’un manual per a treballs de memòria oral i una taula de presentació de distintes experiències vinculades a la recerca oral.  Programa  10h. Rebuda i lliurament de documentació.  10.15h. Breu presentació de la Coordinadora de Centres d’Estudis de Parla Catalana i de l’Institut Ramon Muntaner.  10.30h. Presentació del VII congrés de la CCEPC “Progressos migratoris a les terres de parla catalana. De l’època medieval a l’actualitat”.  11h. Pausa-café.  11.30h. Presentació de la publicació Eines per a treball de la memòria oral\, a càrrec de M. Dolors Bernal i Joan Corbalan\, autors del llibre (se’n lliurarà un exemplar a cada assistent).  12h. Taula d’experiències i debat sobre la memòria oral. Hi participen:  Ramon Arnabat\, de l’Institut d’Estudis Penedesencs. projecte “Tots els noms”. Raquel Ferrero\, antropòloga. Empar Salvador\, del Fòrum per la Memòria del País Valencià.  ATENCIÓ: Inscripció gratuïta\, prèvia cofirmació a ccepc@iec.cat  Organitzen: la Coordinadora de Centres d’Estudis de Parla Catalana\, l’Institut Ramon Muntaner i la Federació d’Instituts d’Estudis Comarcals del País València\, amb el suport d’Acció Cultural del País Valencià.
URL:https://octubre.cat/activitat/la-memoria-oral-eines-i-experiencies/
LOCATION:No definit
CATEGORIES:Conferències i congressos
ATTACH;FMTTYPE=image/jpeg:https://octubre.cat/www/wp-content/uploads/2020/07/conferencia1.jpg
END:VEVENT
END:VCALENDAR