BEGIN:VCALENDAR
VERSION:2.0
PRODID:-//Octubre Centre de Cultura Contemporània - ECPv5.1.6//NONSGML v1.0//EN
CALSCALE:GREGORIAN
METHOD:PUBLISH
X-WR-CALNAME:Octubre Centre de Cultura Contemporània
X-ORIGINAL-URL:https://octubre.cat
X-WR-CALDESC:Events for Octubre Centre de Cultura Contemporània
BEGIN:VTIMEZONE
TZID:Europe/Andorra
BEGIN:DAYLIGHT
TZOFFSETFROM:+0100
TZOFFSETTO:+0200
TZNAME:CEST
DTSTART:20190331T010000
END:DAYLIGHT
BEGIN:STANDARD
TZOFFSETFROM:+0200
TZOFFSETTO:+0100
TZNAME:CET
DTSTART:20191027T010000
END:STANDARD
END:VTIMEZONE
BEGIN:VEVENT
DTSTART;TZID=Europe/Andorra:20191005T000000
DTEND;TZID=Europe/Andorra:20191102T000000
DTSTAMP:20260423T063448
CREATED:20200729T173502Z
LAST-MODIFIED:20200905T152610Z
UID:11497-1570233600-1572652800@octubre.cat
SUMMARY:La mar d’il·lustrades
DESCRIPTION:Exposició inclosa en les activitats de Mostra Viva del Mediterrani 2019. \nInauguració: dissabte 5 d’octubre a les 17.00h. \nCoincidint amb la designació de València com a Capital Mundial del Disseny per a 2022 es presenta a la sala d’exposicions d’Octubre CCC\, La mar d’il·lustrades: una exposició que mostra el treball d’una selecció de 18 il·lustradores i artistes visuals de 18 dels 21 països de la ribera del Mediterrani (Espanya\, França\, Itàlia\, Eslovènia\, Croàcia\, Bòsnia i Hercegovina\, Montenegro\, Albània\, Grècia\, Turquia\, Xipre\, Síria\, Líban\, Israel\, Palestina\, el Marroc\, Tunísia i Egipte). Les il·lustradores i artistes presenten el seu treball a través de diversos estils i perfils\, però en el conjunt poden albirar-se elements comuns a l’hora d’entendre la identitat visual de la cultura mediterrània\, en aquesta ocasió a través de la mirada de les dones. \nComissariat: Tomás Gorria / Cristina Chumillas. \nArts Visuals del Mediterrani\nActivitat inclosa dins la Mostra Viva del Mediterrani 2019
URL:https://octubre.cat/activitat/la-mar-dillustrades/
LOCATION:Sala d’exposicions
CATEGORIES:Exposicions
ATTACH;FMTTYPE=image/jpeg:https://octubre.cat/www/wp-content/uploads/2020/07/activitat3336.jpg
END:VEVENT
END:VCALENDAR