BEGIN:VCALENDAR
VERSION:2.0
PRODID:-//Octubre Centre de Cultura Contemporània - ECPv5.1.6//NONSGML v1.0//EN
CALSCALE:GREGORIAN
METHOD:PUBLISH
X-WR-CALNAME:Octubre Centre de Cultura Contemporània
X-ORIGINAL-URL:https://octubre.cat
X-WR-CALDESC:Events for Octubre Centre de Cultura Contemporània
BEGIN:VTIMEZONE
TZID:Europe/Andorra
BEGIN:DAYLIGHT
TZOFFSETFROM:+0100
TZOFFSETTO:+0200
TZNAME:CEST
DTSTART:20110327T010000
END:DAYLIGHT
BEGIN:STANDARD
TZOFFSETFROM:+0200
TZOFFSETTO:+0100
TZNAME:CET
DTSTART:20111030T010000
END:STANDARD
END:VTIMEZONE
BEGIN:VEVENT
DTSTART;TZID=Europe/Andorra:20110602T193000
DTEND;TZID=Europe/Andorra:20110602T193000
DTSTAMP:20260422T173052
CREATED:20200729T165545Z
LAST-MODIFIED:20200730T042834Z
UID:9249-1307043000-1307043000@octubre.cat
SUMMARY:La lliçó política de les urnes
DESCRIPTION:Dijous 2 de juny a les 19’30h. “La lliçó política de les urnes”. Debat amb Carolina Bescansa.  \n  \n  \n\nA càrrec de Carolina Bescansa\, professora de Ciències Polítiques i de l’Administració de la UCM.  Organitzat per la Fundació CEPS amb la col·laboració de l’Octubre CCC
URL:https://octubre.cat/activitat/la-llico-politica-de-les-urnes/
LOCATION:No definit
CATEGORIES:Conferències i congressos
ATTACH;FMTTYPE=image/jpeg:https://octubre.cat/www/wp-content/uploads/2020/07/activitat1478.jpg
END:VEVENT
END:VCALENDAR