BEGIN:VCALENDAR
VERSION:2.0
PRODID:-//Octubre Centre de Cultura Contemporània - ECPv5.1.6//NONSGML v1.0//EN
CALSCALE:GREGORIAN
METHOD:PUBLISH
X-WR-CALNAME:Octubre Centre de Cultura Contemporània
X-ORIGINAL-URL:https://octubre.cat
X-WR-CALDESC:Events for Octubre Centre de Cultura Contemporània
BEGIN:VTIMEZONE
TZID:Europe/Andorra
BEGIN:DAYLIGHT
TZOFFSETFROM:+0100
TZOFFSETTO:+0200
TZNAME:CEST
DTSTART:20140330T010000
END:DAYLIGHT
BEGIN:STANDARD
TZOFFSETFROM:+0200
TZOFFSETTO:+0100
TZNAME:CET
DTSTART:20141026T010000
END:STANDARD
END:VTIMEZONE
BEGIN:VEVENT
DTSTART;TZID=Europe/Andorra:20140410T190000
DTEND;TZID=Europe/Andorra:20140410T190000
DTSTAMP:20260421T010614
CREATED:20200729T170413Z
LAST-MODIFIED:20200729T184421Z
UID:9740-1397156400-1397156400@octubre.cat
SUMMARY:La 'Guia essencial de la llengua' de Joan Enric Pellicer
DESCRIPTION:Dijous 10 d’abril a les 19.00h\, amb l’autor i Anna Devís  \n  \n  \n\n Joan Enric Pellicer explicarà la seua Guia essencial de la llengua (Adonay)\, amb Anna Devís
URL:https://octubre.cat/activitat/la-guia-essencial-de-la-llengua-de-joan-enric-pellicer/
LOCATION:Llibreria 3i4
CATEGORIES:Literatura
ATTACH;FMTTYPE=image/jpeg:https://octubre.cat/www/wp-content/uploads/2020/07/activitat2035.jpg
END:VEVENT
END:VCALENDAR