BEGIN:VCALENDAR
VERSION:2.0
PRODID:-//Octubre Centre de Cultura Contemporània - ECPv5.1.6//NONSGML v1.0//EN
CALSCALE:GREGORIAN
METHOD:PUBLISH
X-WR-CALNAME:Octubre Centre de Cultura Contemporània
X-ORIGINAL-URL:https://octubre.cat
X-WR-CALDESC:Events for Octubre Centre de Cultura Contemporània
BEGIN:VTIMEZONE
TZID:Europe/Andorra
BEGIN:DAYLIGHT
TZOFFSETFROM:+0100
TZOFFSETTO:+0200
TZNAME:CEST
DTSTART:20090329T010000
END:DAYLIGHT
BEGIN:STANDARD
TZOFFSETFROM:+0200
TZOFFSETTO:+0100
TZNAME:CET
DTSTART:20091025T010000
END:STANDARD
END:VTIMEZONE
BEGIN:VEVENT
DTSTART;TZID=Europe/Andorra:20091128T193000
DTEND;TZID=Europe/Andorra:20091128T193000
DTSTAMP:20260420T202247
CREATED:20200729T182615Z
LAST-MODIFIED:20200729T182615Z
UID:12923-1259436600-1259436600@octubre.cat
SUMMARY:La guerra dels nostres iaios. Collage de la Guerra Civil
DESCRIPTION:Dissabte 28 de novembre\, a les 19.30h: Lectura dramatitzada “La guerra dels nostres iaios. Collage de la guerra civil”. Dirigida per Pilar Almeria.   \n  \n  \n\nL’actriu Pilar Almeria\, directora de la lectura.  La guerra dels nostres iaios. Collage de la Guerra Civil Lectura de documents. Música i imatges.   Direcció: Pilar Almeria Intepretació: Albert Iborra i Pepa Juan
URL:https://octubre.cat/activitat/la-guerra-dels-nostres-iaios-collage-de-la-guerra-civil/
LOCATION:No definit
CATEGORIES:Teatre
ATTACH;FMTTYPE=image/jpeg:https://octubre.cat/www/wp-content/uploads/2020/07/activitat956.jpg
END:VEVENT
END:VCALENDAR