BEGIN:VCALENDAR
VERSION:2.0
PRODID:-//Octubre Centre de Cultura Contemporània - ECPv5.1.6//NONSGML v1.0//EN
CALSCALE:GREGORIAN
METHOD:PUBLISH
X-WR-CALNAME:Octubre Centre de Cultura Contemporània
X-ORIGINAL-URL:https://octubre.cat
X-WR-CALDESC:Events for Octubre Centre de Cultura Contemporània
BEGIN:VTIMEZONE
TZID:Europe/Andorra
BEGIN:DAYLIGHT
TZOFFSETFROM:+0100
TZOFFSETTO:+0200
TZNAME:CEST
DTSTART:20160327T010000
END:DAYLIGHT
BEGIN:STANDARD
TZOFFSETFROM:+0200
TZOFFSETTO:+0100
TZNAME:CET
DTSTART:20161030T010000
END:STANDARD
END:VTIMEZONE
BEGIN:VEVENT
DTSTART;TZID=Europe/Andorra:20161123T190000
DTEND;TZID=Europe/Andorra:20161123T190000
DTSTAMP:20260421T024109
CREATED:20200729T172048Z
LAST-MODIFIED:20200729T185611Z
UID:10805-1479927600-1479927600@octubre.cat
SUMMARY:'La Granja del Pas'\, de Sílvia Munt
DESCRIPTION:Dimecres 23 de novembre a les 19.00h. Projecció inclosa en el cicle “Barcelona Escenari” 2016. La projecció serà presentada per Liliana Moreno i Jesús González\, membres de PAH-València. Entrada lliure.  \n  \n  \n\n La projecció serà presentada per Liliana Moreno i Jesús González\, membres de la Plataforma d’Afectats per la Hipoteca (PAH-València).  Documental sobre la Granja del Pas\, lloc de reunió de la Plataforma d’Afectats per la Hipoteca (PAH) de Sabadell. Es mostra el seu funcionament\, l’evolució de les persones que en formen part i la realitat dels desnonaments.  Direcció: Sílvia Munt (2015) Guió: Sílvia Munt\, Raquel Cors\, Daniel Lacasa Fotografia: Daniel Lacasa Producció: Intent Produccions / Televisió de Catalunya Durada: 80’  Cicle organitzat per l’Octubre Centre de Cultura Contemporània amb el patrocini de l’Institut de Cultura de Barcelona Direcció del cicle: Antonio Lloréns Entrada lliure
URL:https://octubre.cat/activitat/la-granja-del-pas-de-silvia-munt/
LOCATION:Sala d’actes
CATEGORIES:Barcelona Escenari 2016 (cinema)
ATTACH;FMTTYPE=image/jpeg:https://octubre.cat/www/wp-content/uploads/2020/07/activitat2658.jpg
END:VEVENT
END:VCALENDAR