BEGIN:VCALENDAR
VERSION:2.0
PRODID:-//Octubre Centre de Cultura Contemporània - ECPv5.1.6//NONSGML v1.0//EN
CALSCALE:GREGORIAN
METHOD:PUBLISH
X-WR-CALNAME:Octubre Centre de Cultura Contemporània
X-ORIGINAL-URL:https://octubre.cat
X-WR-CALDESC:Events for Octubre Centre de Cultura Contemporània
BEGIN:VTIMEZONE
TZID:Europe/Andorra
BEGIN:DAYLIGHT
TZOFFSETFROM:+0100
TZOFFSETTO:+0200
TZNAME:CEST
DTSTART:20150329T010000
END:DAYLIGHT
BEGIN:STANDARD
TZOFFSETFROM:+0200
TZOFFSETTO:+0100
TZNAME:CET
DTSTART:20151025T010000
END:STANDARD
END:VTIMEZONE
BEGIN:VEVENT
DTSTART;TZID=Europe/Andorra:20150211T190000
DTEND;TZID=Europe/Andorra:20150211T190000
DTSTAMP:20260421T230405
CREATED:20200729T170900Z
LAST-MODIFIED:20200902T164011Z
UID:10049-1423681200-1423681200@octubre.cat
SUMMARY:'La grande bellezza'\, de Paolo Sorrentino
DESCRIPTION:  \n\nDimecres 11 de febrer a les 19.00h. Projecció inclosa en el cicle de Cinema Social. V.O. subtitulada en català. Entrada lliure \n \n\n(V.O. subtitulada en català) A Roma\, durant l’estiu\, nobles decadents\, arribistes\, polítics\, criminals de coll blanc\, periodistes\, actors\, prelats\, artistes i intel·lectuals creen una xarxa de relacions inconsistents que es desenvolupen en fastuosos palaus i vil·les. El centre de totes les reunions és Jep Gambardella\, un escriptor de 65 anys que només va escriure un llibre i que practica el periodisme. Dominat per la indolència i el fàstic\, assisteix a aquesta desfilada de personatges poderosos però insubstancials\, buits i depriments. Director: Paolo Sorrentino (2013) Guió: Paolo Sorrentino\, Umberto Contarello Música: Lele Marchitelli Fotografia: Luca Bigazzi Repartiment: Toni Servillo\, Carlo Verdone\, Sabrina Ferilli\, Serena Grandi\, Galatea Ranzi\, Isabella Ferrari\, Giulia Di Quilio\, Luca Marinelli\, Giorgio Pasotti\, Massimo Popolizio Entrada lliure Organitzat amb la col·laboració d’El Cine Social Coordinació del cicle: Antonio Lloréns
URL:https://octubre.cat/activitat/la-grande-bellezza-de-paolo-sorrentino/
LOCATION:Sala d’actes
CATEGORIES:Cicle de cinema social
ATTACH;FMTTYPE=image/jpeg:https://octubre.cat/www/wp-content/uploads/2020/07/activitat2249.jpg
END:VEVENT
END:VCALENDAR