BEGIN:VCALENDAR
VERSION:2.0
PRODID:-//Octubre Centre de Cultura Contemporània - ECPv5.1.6//NONSGML v1.0//EN
CALSCALE:GREGORIAN
METHOD:PUBLISH
X-WR-CALNAME:Octubre Centre de Cultura Contemporània
X-ORIGINAL-URL:https://octubre.cat
X-WR-CALDESC:Events for Octubre Centre de Cultura Contemporània
BEGIN:VTIMEZONE
TZID:Europe/Andorra
BEGIN:DAYLIGHT
TZOFFSETFROM:+0100
TZOFFSETTO:+0200
TZNAME:CEST
DTSTART:20170326T010000
END:DAYLIGHT
BEGIN:STANDARD
TZOFFSETFROM:+0200
TZOFFSETTO:+0100
TZNAME:CET
DTSTART:20171029T010000
END:STANDARD
END:VTIMEZONE
BEGIN:VEVENT
DTSTART;TZID=Europe/Andorra:20170503T170000
DTEND;TZID=Europe/Andorra:20170503T170000
DTSTAMP:20260421T120045
CREATED:20200729T172542Z
LAST-MODIFIED:20200729T185820Z
UID:11120-1493830800-1493830800@octubre.cat
SUMMARY:'La fotografia documental i el seu context'\, per Clemente Bernad
DESCRIPTION:Dimecres 3 de maig a les 17.00h. Conferència organitzada pel Màster de Fotografia UPV en el context de PhotOn\, Festival Internacional de Fotoperiodisme i fotografia documental de València. Entrada lliure.  \n  \n  \n\n Organitza: Màster en Fotografia UPV Col·labora: PhotOn i Octubre CCC  Clemente Bernad és llicenciat en Belles Arts (UCB) i DEA en sociologia per la UPNA. Fotògraf i cineasta documentalista independent des de 1986\, amb un fort interès per les temàtiques socials i polìtiques dins del seu entorn cultural més proper. Entre els seus treballs destaquen “Jornaleros”\, “Mujeres sin tierra”\, “Pobres de nosotros”\, “Canopus”\, “Basque chronicles”\, la pel·lícula documental “El sueño de Malika” i “Donde habita el recuerdo”\, sobre les exhumacions de foses de la guerra civil espanyola –projecte que va ser presentat a l’Octubre CCC el maig de 2012. Pertany a l’Agenzia Contrastro i\, en l’actualitat\, desenvolupa la seua activitat com a professional independent\, docent i articulista.
URL:https://octubre.cat/activitat/la-fotografia-documental-i-el-seu-context-per-clemente-bernad/
LOCATION:Sala d’actes
CATEGORIES:Conferències i congressos
ATTACH;FMTTYPE=image/jpeg:https://octubre.cat/www/wp-content/uploads/2020/07/activitat2821.jpg
END:VEVENT
END:VCALENDAR