BEGIN:VCALENDAR
VERSION:2.0
PRODID:-//Octubre Centre de Cultura Contemporània - ECPv5.1.6//NONSGML v1.0//EN
CALSCALE:GREGORIAN
METHOD:PUBLISH
X-WR-CALNAME:Octubre Centre de Cultura Contemporània
X-ORIGINAL-URL:https://octubre.cat
X-WR-CALDESC:Events for Octubre Centre de Cultura Contemporània
BEGIN:VTIMEZONE
TZID:Europe/Andorra
BEGIN:DAYLIGHT
TZOFFSETFROM:+0100
TZOFFSETTO:+0200
TZNAME:CEST
DTSTART:20080330T010000
END:DAYLIGHT
BEGIN:STANDARD
TZOFFSETFROM:+0200
TZOFFSETTO:+0100
TZNAME:CET
DTSTART:20081026T010000
END:STANDARD
END:VTIMEZONE
BEGIN:VEVENT
DTSTART;TZID=Europe/Andorra:20080422T200000
DTEND;TZID=Europe/Andorra:20080422T200000
DTSTAMP:20260421T165513
CREATED:20200729T181843Z
LAST-MODIFIED:20260104T165617Z
UID:12561-1208894400-1208894400@octubre.cat
SUMMARY:'La fiscalia de Medi Ambient i Urbanisme: els dos primers anys d'existència'
DESCRIPTION:Conferència amb motiu del Dia de la Terra a càrrec d’Antonio Vercher Noguera\, Fiscal de Sala Coordinador de Medi Ambient i Urbanisme del Tribunal Suprem. \nAntonio Vercher Noguera (Tavernes de la Valldigna -Safor-\, 1954) és llicenciat en Dret per la Universitat de València-Estudi General; Màster en Dret Ambiental per la Universitat de Harvard (Estats Units); Doctor en Dret per la Universitat de Cambridge (Regne Unit). \nÉs autor de diversos llibres\, com ara: La delincuencia urbanística: aspectos penales prácticos sobre urbanismo y ordenación del territorio\, o Comentarios al delito ecológico: breve estudio de derecho comparado entre España y los Estados Unidos. A més a més ha escrit nombrosos articles a diverses publicacions especialitzades. \n—\nOrganitza: Institut del Territori
URL:https://octubre.cat/activitat/la-fiscalia-de-medi-ambient-i-urbanisme-els-dos-primers-anys-dexistencia/
LOCATION:No definit
CATEGORIES:Institut del Territori
ATTACH;FMTTYPE=image/jpeg:https://octubre.cat/www/wp-content/uploads/2020/07/conferencia1.jpg
END:VEVENT
END:VCALENDAR