BEGIN:VCALENDAR
VERSION:2.0
PRODID:-//Octubre Centre de Cultura Contemporània - ECPv5.1.6//NONSGML v1.0//EN
CALSCALE:GREGORIAN
METHOD:PUBLISH
X-WR-CALNAME:Octubre Centre de Cultura Contemporània
X-ORIGINAL-URL:https://octubre.cat
X-WR-CALDESC:Events for Octubre Centre de Cultura Contemporània
BEGIN:VTIMEZONE
TZID:Europe/Andorra
BEGIN:DAYLIGHT
TZOFFSETFROM:+0100
TZOFFSETTO:+0200
TZNAME:CEST
DTSTART:20140330T010000
END:DAYLIGHT
BEGIN:STANDARD
TZOFFSETFROM:+0200
TZOFFSETTO:+0100
TZNAME:CET
DTSTART:20141026T010000
END:STANDARD
END:VTIMEZONE
BEGIN:VEVENT
DTSTART;TZID=Europe/Andorra:20140305T193000
DTEND;TZID=Europe/Andorra:20140305T193000
DTSTAMP:20260421T024002
CREATED:20200729T170405Z
LAST-MODIFIED:20200729T184415Z
UID:9732-1394047800-1394047800@octubre.cat
SUMMARY:La dieta mediàtica valenciana
DESCRIPTION:Dimecres 5 de març a les 19.30h: Conferència “La dieta mediàtica valenciana\, una amenaça per a la salut democràtica. Com podem millorar-la?”\, a càrrec de Jose Ignacio Pastor. Organitzat pel Fòrum Cultural Valencià La Roqueta  \n  \n  \n\n Conferència “La dieta mediàtica valenciana\, una amenaça per a la salut democràtica. Com podem millorar-la?”  A càrrec de Jose Ignacio Pastor\, pedagog\, psicòleg i mestre\, president de l’Associació Ciutadania i Comunicació. Presenta: Emília Bolinches\, periodista i vicepresidenta d’ACICOM  Organitza el Fòrum Cultural Valencià La Roqueta Col·laboren: ACICOM i ACPV
URL:https://octubre.cat/activitat/la-dieta-mediatica-valenciana/
LOCATION:Hall
CATEGORIES:Conferències i congressos
ATTACH;FMTTYPE=image/jpeg:https://octubre.cat/www/wp-content/uploads/2020/07/activitat2027.jpg
END:VEVENT
END:VCALENDAR