BEGIN:VCALENDAR
VERSION:2.0
PRODID:-//Octubre Centre de Cultura Contemporània - ECPv5.1.6//NONSGML v1.0//EN
CALSCALE:GREGORIAN
METHOD:PUBLISH
X-WR-CALNAME:Octubre Centre de Cultura Contemporània
X-ORIGINAL-URL:https://octubre.cat
X-WR-CALDESC:Events for Octubre Centre de Cultura Contemporània
BEGIN:VTIMEZONE
TZID:Europe/Andorra
BEGIN:DAYLIGHT
TZOFFSETFROM:+0100
TZOFFSETTO:+0200
TZNAME:CEST
DTSTART:20090329T010000
END:DAYLIGHT
BEGIN:STANDARD
TZOFFSETFROM:+0200
TZOFFSETTO:+0100
TZNAME:CET
DTSTART:20091025T010000
END:STANDARD
BEGIN:DAYLIGHT
TZOFFSETFROM:+0100
TZOFFSETTO:+0200
TZNAME:CEST
DTSTART:20100328T010000
END:DAYLIGHT
BEGIN:STANDARD
TZOFFSETFROM:+0200
TZOFFSETTO:+0100
TZNAME:CET
DTSTART:20101031T010000
END:STANDARD
END:VTIMEZONE
BEGIN:VEVENT
DTSTART;TZID=Europe/Andorra:20091203T000000
DTEND;TZID=Europe/Andorra:20100221T000000
DTSTAMP:20260420T182110
CREATED:20200729T164625Z
LAST-MODIFIED:20200829T183717Z
UID:8665-1259798400-1266710400@octubre.cat
SUMMARY:La derrota. La fi de la guerra civil 70 anys després
DESCRIPTION:L’exposició vol fer memòria històrica de la fi de la guerra civil\, recollint els esdeveniments més significatius i les conseqüències més doloroses que va implicar per al País Valencià. \nL’1 d’abril de 2009 s’han acomplit els 70 anys de la fi de la guerra civil\, en la qual la República\, que encarnava els ideals de democràcia i llibertat\, fou derrotada per l’exèrcit de Franco\, amb el suport de l’Alemanya nazi i de la Itàlia feixista. L’exposició sobre “La derrota” vol fer memòria històrica de l’efemèride\, recollint els esdeveniments més significatius i les conseqüències més doloroses que per al País Valencià va implicar. Els darrers mesos de la guerra la població civil va haver de patir els bombardeigs continuats per part de l’aviació franquista\, mentre s’aguditzaven els problemes de la subsistència. L’ocupació militar per l’exèrcit franquista\, la imposició de la nova parafernàlia feixista\, el drama del port d’Alacant\, els camps de concentració\, els consells de guerra i els escamots d’execució\, l’exili… varen definir una nova situació històrica\, que va condicionar el nostre futur durant els següents quaranta anys. \n \nUna producció de l’Associació Arxiu de la Memòria “Joan B. Basset” amb la col·laboració de la Fundació Ausiàs March per a l’Octubre CCC.\nComissari: Pelai Pagès\nCoordinació: Vicent Sampedro i Ricard Camil Torres\nCoordinació tècnica: Emili Payà\nAssessor fotogràfic: Gaspar Díez Pomares \nAmb la col·laboració de: Ministeri de Defensa\, Ministeri de Cultura\, Ajuntament d’Elx\, Memorial Democràtic de la Generalitat de Catalunya \nEntitats prestadores: Aula Militar “Bermúdez de Castro” de Castelló de la Plana\, Museu Històric Militar de València\, Museo del Ejército de Toledo\, Institut Cartogràfic de Catalunya\, Biblioteca Històrica de la Universitat de València\, Associació Arqueològica de la Vall d’Uixó\nCol·leccions particulars: Kristian Abad\, Matías Alonso Blasco\, Pascual Marzal\, Carlos Mallench\nProcedència de les fotografies: Biblioteca Nacional\, Biblioteca Valenciana\, Archivo General Militar de Ávila\, Javier Aura\, Josep Miquel Santacreu\, Juan Miguel Martínez Lorenzo\, Juan Arráez Cerdá\, Miguel Ors Montenegro\nDocumental “Castigats”: Guió\, direcció i muntatge: Luis García Verdú i Vicente Pascual. Idea\, recerca històrica i local·lització de testimonis: José Miguel Santacreu. Producció: Universitat d’Alacant \nMaquetes d’avions: Manel Gallart\, José Sisternes i Manuel Filla\nEscenografia trinxera: Associació Línia XYZ\nImatge de l’exposició: Toni Payà\nDisseny i muntatge: Taller Creativo\, SL\nGràfica: Espirelius \nAgraïments: Santos Castro (Director General de Relacions Institucionals del Ministeri de Defensa)\, Ricardo Pardo Camacho (Coronel President de l’Aula Militar “Bermúdez de Castro” de Castelló)\, José Luis Fuentes Vila (Coronel Director del Museu Històric Militar de Valencia)\, Carme Montaner (cap de la Cartoteca de Catalunya\, Institut Cartogràfic de Catalunya)\, María Cruz Cabeza (directora de la Biblioteca Històrica de la Universitat de València)\, Vicente Falcó (Associació Arqueològica de la Vall d’Uixó)\, Isabel Boega (Biblioteca Nacional)\, Jorge Vera de Leito Aparisi\, Reis Juan\, Toni Pastor\, Cristina Escrivà\, Pepa Alòs\, Salvador Espí\, Mario Gisbert Santamaria\, Emilio Payà Baldó\, Maria Morató\, Roberto Raga\, Família Bellver\, Rosa Maria Hueso \nAgraïments especials a Kristian Abad\, Matías Alonso\, Pascual Marzal\, Ricardo Pardo i l’Associació Línia XYZ.
URL:https://octubre.cat/activitat/la-derrota-la-fi-de-la-guerra-civil-70-anys-despres/
LOCATION:Sala d’exposicions
CATEGORIES:Exposicions
ATTACH;FMTTYPE=image/jpeg:https://octubre.cat/www/wp-content/uploads/2020/07/activitat1008.jpg
END:VEVENT
END:VCALENDAR