BEGIN:VCALENDAR
VERSION:2.0
PRODID:-//Octubre Centre de Cultura Contemporània - ECPv5.1.6//NONSGML v1.0//EN
CALSCALE:GREGORIAN
METHOD:PUBLISH
X-WR-CALNAME:Octubre Centre de Cultura Contemporània
X-ORIGINAL-URL:https://octubre.cat
X-WR-CALDESC:Events for Octubre Centre de Cultura Contemporània
BEGIN:VTIMEZONE
TZID:Europe/Andorra
BEGIN:DAYLIGHT
TZOFFSETFROM:+0100
TZOFFSETTO:+0200
TZNAME:CEST
DTSTART:20150329T010000
END:DAYLIGHT
BEGIN:STANDARD
TZOFFSETFROM:+0200
TZOFFSETTO:+0100
TZNAME:CET
DTSTART:20151025T010000
END:STANDARD
END:VTIMEZONE
BEGIN:VEVENT
DTSTART;TZID=Europe/Andorra:20150923T183000
DTEND;TZID=Europe/Andorra:20150923T183000
DTSTAMP:20260423T201523
CREATED:20200729T171234Z
LAST-MODIFIED:20200730T041520Z
UID:10276-1443033000-1443033000@octubre.cat
SUMMARY:'La cura de Yalom'\, de Sabine Gisiger
DESCRIPTION:Dimecres 23 de setembre a les 18.30h. Projecció organitzada per l’Institut de Teràpia Gestalt que presentarà les seues activitats 2015-2016. Entrada per invitació.  \n  \n  \n\n Presentació de les activitats de l’Institut de Teràpia Gestalt (ITG)  i projecció del film La cura de Yalom  Documental sobre el popular acadèmic i existencialista Irvin D. Yalom\, un dels psicoterapeutes vius més influents i que ha venut milions de llibres en tot el món.   Direcció i guió: Sabine Gisiger (2014) Música: Balz Bachmann Fotografia: Helena Vagnières Documental\, 77 minuts  Aforament limitat. Recollida de tickets a l’Institut de Teràpia Gestalt (ITG)
URL:https://octubre.cat/activitat/la-cura-de-yalom-de-sabine-gisiger/
LOCATION:Sala d’actes
CATEGORIES:Cinema
ATTACH;FMTTYPE=image/jpeg:https://octubre.cat/www/wp-content/uploads/2020/07/activitat2378.jpg
END:VEVENT
END:VCALENDAR