BEGIN:VCALENDAR
VERSION:2.0
PRODID:-//Octubre Centre de Cultura Contemporània - ECPv5.1.6//NONSGML v1.0//EN
CALSCALE:GREGORIAN
METHOD:PUBLISH
X-WR-CALNAME:Octubre Centre de Cultura Contemporània
X-ORIGINAL-URL:https://octubre.cat
X-WR-CALDESC:Events for Octubre Centre de Cultura Contemporània
BEGIN:VTIMEZONE
TZID:Europe/Andorra
BEGIN:DAYLIGHT
TZOFFSETFROM:+0100
TZOFFSETTO:+0200
TZNAME:CEST
DTSTART:20070325T010000
END:DAYLIGHT
BEGIN:STANDARD
TZOFFSETFROM:+0200
TZOFFSETTO:+0100
TZNAME:CET
DTSTART:20071028T010000
END:STANDARD
END:VTIMEZONE
BEGIN:VEVENT
DTSTART;TZID=Europe/Andorra:20070322T080000
DTEND;TZID=Europe/Andorra:20070322T170000
DTSTAMP:20260421T163852
CREATED:20260110T154555Z
LAST-MODIFIED:20260110T154610Z
UID:24670-1174550400-1174582800@octubre.cat
SUMMARY:La cultura del paisatge: Javier Maderuelo
DESCRIPTION:“Imaginaris del paisatge”\, a càrrec de Javier Maderuelo\, catedràtic d’arquitectura del paisatge a la Universidad de Alcalá \n—\nCurs del 8 de març al 26 d’abril de 2007 organitzat per l’Institut del Territori de l’Octubre CCC
URL:https://octubre.cat/activitat/la-cultura-del-paisatge-javier-maderuelo/
LOCATION:No definit
CATEGORIES:Institut del Territori,La cultura del paisatge
ATTACH;FMTTYPE=image/jpeg:https://octubre.cat/www/wp-content/uploads/2020/07/tallers1-1.jpg
END:VEVENT
END:VCALENDAR