BEGIN:VCALENDAR
VERSION:2.0
PRODID:-//Octubre Centre de Cultura Contemporània - ECPv5.1.6//NONSGML v1.0//EN
CALSCALE:GREGORIAN
METHOD:PUBLISH
X-WR-CALNAME:Octubre Centre de Cultura Contemporània
X-ORIGINAL-URL:https://octubre.cat
X-WR-CALDESC:Events for Octubre Centre de Cultura Contemporània
BEGIN:VTIMEZONE
TZID:Europe/Andorra
BEGIN:DAYLIGHT
TZOFFSETFROM:+0100
TZOFFSETTO:+0200
TZNAME:CEST
DTSTART:20090329T010000
END:DAYLIGHT
BEGIN:STANDARD
TZOFFSETFROM:+0200
TZOFFSETTO:+0100
TZNAME:CET
DTSTART:20091025T010000
END:STANDARD
END:VTIMEZONE
BEGIN:VEVENT
DTSTART;TZID=Europe/Andorra:20091203T193000
DTEND;TZID=Europe/Andorra:20091203T193000
DTSTAMP:20260420T192114
CREATED:20200729T182651Z
LAST-MODIFIED:20200729T182651Z
UID:12956-1259868600-1259868600@octubre.cat
SUMMARY:La crisi\, una bona aliada
DESCRIPTION:Dijous 3 de desembre\, a les 19.30h: Conferència “La crisi\, una bona aliada”\, a càrrec de Jordi Pigem (escriptor i filòsof). Dins del cicle “ECO. Topant contra els límits del planeta”.   \n  \n  \n\nECO. Topant contra els límits del planeta Debats en un món globalitzat  Conferència “La crisi\, una bona aliada”\, a càrrec de Jordi Pigem.  Segona de les conferències del cicle de pensament ambiental de l’Idt (hivern 2009-2010).   Jordi Pigem (Barcelona\, 1964) és Doctor en Filosofia per la Universitat de Barcelona. De 1998 a 2003 va ser professor i coordinador de l’Àrea de Filosofia del Masters in Holistic Science del Schumacher College a Dartington (Universitat de Plymouth\, Anglaterra).  Ha sigut professor convidat de la Universitat de Barcelona i ponent en diverses universitats\, incloses les de Columbia i Oxford. El 1999 va obtenir el Premi de Filosofia de l’Institut d’Estudis Catalans. Va ser coordinador de la revista d’ecologia Integral i editor del volum Nova Consciència (Integral Ed.\, 1991).  És autor de La odisea de Occidente (Kairós\, 1994) i El pensament de Raimon Panikkar (IEC\, 2007)\, i col·labora habitualment en publicacions periòdiques en català\, castellà i anglès.   “La nostra societat ha relligat el seu destí a una organització fundada en l’acumulació il·limitada. Quan el creixement s’alenteix\, arriba la crisi\, fins i tot el pànic.”  Serge Latouche
URL:https://octubre.cat/activitat/la-crisi-una-bona-aliada/
LOCATION:No definit
CATEGORIES:Institut del Territori
ATTACH;FMTTYPE=image/jpeg:https://octubre.cat/www/wp-content/uploads/2020/07/activitat990.jpg
END:VEVENT
END:VCALENDAR