BEGIN:VCALENDAR
VERSION:2.0
PRODID:-//Octubre Centre de Cultura Contemporània - ECPv5.1.6//NONSGML v1.0//EN
CALSCALE:GREGORIAN
METHOD:PUBLISH
X-WR-CALNAME:Octubre Centre de Cultura Contemporània
X-ORIGINAL-URL:https://octubre.cat
X-WR-CALDESC:Events for Octubre Centre de Cultura Contemporània
BEGIN:VTIMEZONE
TZID:Europe/Andorra
BEGIN:DAYLIGHT
TZOFFSETFROM:+0100
TZOFFSETTO:+0200
TZNAME:CEST
DTSTART:20130331T010000
END:DAYLIGHT
BEGIN:STANDARD
TZOFFSETFROM:+0200
TZOFFSETTO:+0100
TZNAME:CET
DTSTART:20131027T010000
END:STANDARD
END:VTIMEZONE
BEGIN:VEVENT
DTSTART;TZID=Europe/Andorra:20130620T000000
DTEND;TZID=Europe/Andorra:20130727T000000
DTSTAMP:20260424T041417
CREATED:20200729T170112Z
LAST-MODIFIED:20200830T165312Z
UID:9569-1371686400-1374883200@octubre.cat
SUMMARY:La Crema de Xàtiva
DESCRIPTION:Aquesta exposició vol donar notícia d’un fet que va marcar\, dissortadament\, la nostra història. La desfeta d’Almansa\, de la qual enguany es compleixen tres-cents sis anys\, va significar la pèrdua dels nostre furs\, el bandejament de la nostra llengua i cultura i la submissió a les lleis de Castella. Ara\, en l’aniversari de La Crema de Xàtiva per les tropes borbòniques (17 de juny de 1707)\, volem donar un testimoni poètic i artístic d’aquells esdeveniments tan decisius per a Xàtiva i per al país. \nA l’exposició\, un poema-pòrtic d’Antoni Martínez dóna pas al poemari “La Crema de Xàtiva”\, de Vicent Andrés Estellés: catorze sonets que seqüencien vuit gravats realitzats per Artur Heras\, Rafael Armengol\, Joan Ramos\, Miquel Mollà\, Rafael Gómez\, Ricard Juan\, Ernest García i Ricard Huerta. \nAquesta mostra vol\, a més\, retre homenatge al poeta Vicent Andrés Estellés i sumar-se a totes les activitats culturals que al llarg de l’any recorden l’autor de Burjassot. \nComissari: Antoni Martínez \nInauguració: dijous 20 de juny a les 20.00h En la inauguració intervindran La Bicicleta Teatre\, que recitaran uns poemes de Vicent Andrés Estellés\, i Pep Gimeno “Botifarra”\, amb una breu actuació.
URL:https://octubre.cat/activitat/la-crema-de-xativa/
LOCATION:Sala d’exposicions
CATEGORIES:Exposicions
ATTACH;FMTTYPE=image/jpeg:https://octubre.cat/www/wp-content/uploads/2020/07/activitat1825.jpg
END:VEVENT
END:VCALENDAR