BEGIN:VCALENDAR
VERSION:2.0
PRODID:-//Octubre Centre de Cultura Contemporània - ECPv5.1.6//NONSGML v1.0//EN
CALSCALE:GREGORIAN
METHOD:PUBLISH
X-WR-CALNAME:Octubre Centre de Cultura Contemporània
X-ORIGINAL-URL:https://octubre.cat
X-WR-CALDESC:Events for Octubre Centre de Cultura Contemporània
BEGIN:VTIMEZONE
TZID:Europe/Andorra
BEGIN:DAYLIGHT
TZOFFSETFROM:+0100
TZOFFSETTO:+0200
TZNAME:CEST
DTSTART:20110327T010000
END:DAYLIGHT
BEGIN:STANDARD
TZOFFSETFROM:+0200
TZOFFSETTO:+0100
TZNAME:CET
DTSTART:20111030T010000
END:STANDARD
END:VTIMEZONE
BEGIN:VEVENT
DTSTART;TZID=Europe/Andorra:20110928T190000
DTEND;TZID=Europe/Andorra:20110928T190000
DTSTAMP:20260424T110950
CREATED:20200729T165557Z
LAST-MODIFIED:20200730T042842Z
UID:9260-1317236400-1317236400@octubre.cat
SUMMARY:La controvertida autoria del Tirant lo Blanc
DESCRIPTION:Dimecres 28 de setembre a les 19.00h: “La controvertida autoria del Tirant lo Blanc”\, a càrrec de Josep Guia\, professor de la Universitat de València  \n  \n  \n\nConferència a càrrec del professor Josep Guia\,  doctor en Matemàtiques i en Filologia. Universitat de València   Com és ben sabut\, l’edició prínceps del Tirant lo Blanc es va fer a València\, l’any 1490. Va anar seguida d’una segona edició\,  al cap de set anys: Barcelona\, 1497.  Enguany es compleixen els 500 anys de la primera traducció (al castellà): Valladolid\, 1511\, on va aparèixer com a obra anònima.
URL:https://octubre.cat/activitat/la-controvertida-autoria-del-tirant-lo-blanc/
LOCATION:No definit
CATEGORIES:Conferències i congressos
ATTACH;FMTTYPE=image/jpeg:https://octubre.cat/www/wp-content/uploads/2020/07/activitat1491.jpg
END:VEVENT
END:VCALENDAR