BEGIN:VCALENDAR
VERSION:2.0
PRODID:-//Octubre Centre de Cultura Contemporània - ECPv5.1.6//NONSGML v1.0//EN
CALSCALE:GREGORIAN
METHOD:PUBLISH
X-WR-CALNAME:Octubre Centre de Cultura Contemporània
X-ORIGINAL-URL:https://octubre.cat
X-WR-CALDESC:Events for Octubre Centre de Cultura Contemporània
BEGIN:VTIMEZONE
TZID:Europe/Andorra
BEGIN:DAYLIGHT
TZOFFSETFROM:+0100
TZOFFSETTO:+0200
TZNAME:CEST
DTSTART:20090329T010000
END:DAYLIGHT
BEGIN:STANDARD
TZOFFSETFROM:+0200
TZOFFSETTO:+0100
TZNAME:CET
DTSTART:20091025T010000
END:STANDARD
END:VTIMEZONE
BEGIN:VEVENT
DTSTART;TZID=Europe/Andorra:20091128T100000
DTEND;TZID=Europe/Andorra:20091128T100000
DTSTAMP:20260420T202249
CREATED:20200729T182656Z
LAST-MODIFIED:20200729T182656Z
UID:12961-1259402400-1259402400@octubre.cat
SUMMARY:La connectivitat a l'Arc Mediterrani des d'una visió sostenible
DESCRIPTION:Dissabte 28 de novembre\, a les 10.00h: Jornada de treball. Organitza: Fundació Nous Horitzons i Institut Triangle de Mar Blava.   \n  \n  \n\nJornada de treball  Organitza: Fundació Nous Horitzons i Institut Triangle de Mar Blava.  Col·labora: Octubre CCC i Departament de Vicepresidència de la Generalitat de Catalunya.   Programa  10.00h. Benvinguda. Reyes Matamales\, secretària de Polítiques Socials d’IPV.   10.10h. Presentació: Jaume Bosch\, president de l’FNH\, de l’ITMB i del grup parlamentari ICV al Parlament de Catalunya.   10.20h. Introducció. El repte fonamental: bastir la sostenibilitat. Carles Arnal\, portaveu d’Els Verds / EE.   10.45h. Xarxa mediterrània sostenible\, connectivitat i clúster. Amb Raül Romeva\, eurodiputat i vicepresident del Grup Verds / ALE; Vicent Torres\, doctor en Economia i expert en temes de medi ambient urbà i transport; i Joan Ribó\, Projecte Obert i exsíndic de l’Entesa. Modera: Oto Luque\, Consell Nacional del Bloc-PV.   12.15h. Models sostenibles: mobilitat\, comunicacions i ordenació del territori. Amb Ricardo Almenar\, doctor en Biologia i consultor en temes mediambientals; Jael Pozo\, Els Verds d’Andorra; Antoni Verger\, director general de Mobilitat del Govern de les Illes Balears; Frederic Ximeno\, director general de Polítiques Ambientals i Sostenibilitat de DMAiH de la Generalitat de Catalunya. Modera: Dolors Pérez\, secretària de Model d’Estat d’IPV.   14.00h. Conclusions. Amb Mònica Oltra\, diputada d’IPV i síndica de Compromís i Miquel Àngel Llauger\, diputat del Bloc Mallorca i membre d’Els Verds.    L’Institut Triangle de Mar Blava\, que es va constituir l’abril de 2005\, és un marc de reflexió\, de debat\, d’anàlisi i de proposta en el territori compartit de Catalunya\, Illes Balears\, País Valencià\, Andorra\, Catalunya Nord\, l’Alguer i la Franja\, a través de representants del món acadèmic\, cultural i polític des d’una perspectiva d’esquerres\, nacionalista i ecologista. Es dedica a debatre i a fer propostes de temes tan diversos com la llengua i la cultura\, el desenvolupament econòmic\, les infraestructures i el medi ambient.
URL:https://octubre.cat/activitat/la-connectivitat-a-larc-mediterrani-des-duna-visio-sostenible/
LOCATION:No definit
CATEGORIES:Literatura
ATTACH;FMTTYPE=image/jpeg:https://octubre.cat/www/wp-content/uploads/2020/07/presentacions1.jpg
END:VEVENT
END:VCALENDAR