BEGIN:VCALENDAR
VERSION:2.0
PRODID:-//Octubre Centre de Cultura Contemporània - ECPv5.1.6//NONSGML v1.0//EN
CALSCALE:GREGORIAN
METHOD:PUBLISH
X-WR-CALNAME:Octubre Centre de Cultura Contemporània
X-ORIGINAL-URL:https://octubre.cat
X-WR-CALDESC:Events for Octubre Centre de Cultura Contemporània
BEGIN:VTIMEZONE
TZID:Europe/Andorra
BEGIN:DAYLIGHT
TZOFFSETFROM:+0100
TZOFFSETTO:+0200
TZNAME:CEST
DTSTART:20100328T010000
END:DAYLIGHT
BEGIN:STANDARD
TZOFFSETFROM:+0200
TZOFFSETTO:+0100
TZNAME:CET
DTSTART:20101031T010000
END:STANDARD
END:VTIMEZONE
BEGIN:VEVENT
DTSTART;TZID=Europe/Andorra:20101022T200000
DTEND;TZID=Europe/Andorra:20101022T200000
DTSTAMP:20260420T165718
CREATED:20200729T165125Z
LAST-MODIFIED:20200730T042603Z
UID:8974-1287777600-1287777600@octubre.cat
SUMMARY:La Comida Visuals & Taha
DESCRIPTION:Divendres 22 d’octubre\, a les 20.00h: La Comida Visuals & Taha. Concs cantors tibetans live.   \n  \n  \n\nConcs cantors tibetans live En aquest projecte\, es planteja un concert de concs tibetans al costat d’un live audio / video. Segons la vibració de l’espai\, es busca una simbiosi entre el so i la imatge que generen els artistes en un fluir que ajuda a crear “altres” estats de consciència. A molta gent se li commou l’esperit quan escolta el so dels concs cantors. De vegades inspira la sensació d’un gran espai o d’una pau profunda. Aquesta experiència única es combina en aquesta ocasió amb les projeccions visuals en directe de La Comida Visuals.   Més informació:  La Comida Visuals Cuencos Tibetanos
URL:https://octubre.cat/activitat/la-comida-visuals-taha/
LOCATION:No definit
CATEGORIES:Cicle S0N1V1S10
ATTACH;FMTTYPE=image/jpeg:https://octubre.cat/www/wp-content/uploads/2020/07/activitat1276-rotated.jpg
END:VEVENT
END:VCALENDAR